BEGIN:VCALENDAR
VERSION:2.0
PRODID:-//Big Couch New Orleans - ECPv6.15.20//NONSGML v1.0//EN
CALSCALE:GREGORIAN
METHOD:PUBLISH
X-WR-CALNAME:Big Couch New Orleans
X-ORIGINAL-URL:https://bigcouchnola.com
X-WR-CALDESC:Events for Big Couch New Orleans
REFRESH-INTERVAL;VALUE=DURATION:PT1H
X-Robots-Tag:noindex
X-PUBLISHED-TTL:PT1H
BEGIN:VTIMEZONE
TZID:America/Chicago
BEGIN:DAYLIGHT
TZOFFSETFROM:-0600
TZOFFSETTO:-0500
TZNAME:CDT
DTSTART:20250309T080000
END:DAYLIGHT
BEGIN:STANDARD
TZOFFSETFROM:-0500
TZOFFSETTO:-0600
TZNAME:CST
DTSTART:20251102T070000
END:STANDARD
BEGIN:DAYLIGHT
TZOFFSETFROM:-0600
TZOFFSETTO:-0500
TZNAME:CDT
DTSTART:20260308T080000
END:DAYLIGHT
BEGIN:STANDARD
TZOFFSETFROM:-0500
TZOFFSETTO:-0600
TZNAME:CST
DTSTART:20261101T070000
END:STANDARD
BEGIN:DAYLIGHT
TZOFFSETFROM:-0600
TZOFFSETTO:-0500
TZNAME:CDT
DTSTART:20270314T080000
END:DAYLIGHT
BEGIN:STANDARD
TZOFFSETFROM:-0500
TZOFFSETTO:-0600
TZNAME:CST
DTSTART:20271107T070000
END:STANDARD
END:VTIMEZONE
BEGIN:VEVENT
DTSTART;TZID=America/Chicago:20260711T210000
DTEND;TZID=America/Chicago:20260711T220000
DTSTAMP:20260423T190008
CREATED:20260326T223429Z
LAST-MODIFIED:20260326T223712Z
UID:7591-1783803600-1783807200@bigcouchnola.com
SUMMARY:Cards of Destiny: Unscripted Comedy Competition
DESCRIPTION:« All Events\n 				\n				\n				\n				\n					\n	Cards of Destiny: Unscripted Comedy Competition				\n				\n				\n				\n					\n		\n			July 11\, 2026\n\n	\n\n	  |  \n\n\n9:00 pm\n\n		\n\n\n\n	\n	  -  \n\n10:00 pm\n\n\n\n	\n				\n				\n				\n				\n					\n	\n				\n				\n				\n				\n									Laugh loads at this fast-paced comedy show where talented improvisers compete to be named the Ultimate Joker! We’ve gathered up some incredibly talented improvisers to test their abilities by chance\, and you get to decide the Ultimate Joker! Regular playing cards become comedy challenges\, and improvisers draw their task at random to discover their daring destiny. Whatever the card says they do\, they have to do! And\, the audience chooses who continues on to the next round based upon their performance. It’s surprising\, suspenseful\, and totally unscripted! Credit for this show concept goes to Dylan Rohde of Backline Comedy Theater in Omaha\, and we’re elated to continue this tradition in New Orleans! 								\n				\n				\n						\n					\n			\n						\n				\n					\n		\n	get tickets online or at the door\n\n				\n				\n				\n				\n							\n			\n						\n		\n						\n				\n				\n				\n					\n	\n		\n\n	\n	Add to calendar	\n		\n	\n\n		\n			\n									\n	Google Calendar\n\n									\n	iCalendar\n\n									\n	Outlook 365\n\n									\n	Outlook Live\n\n							\n		\n\n		\n	\n\n				\n				\n					\n		\n				\n			\n						\n				\n					\n				\n				\n	\n			\n		Big Couch			\n	\n	\n	\n\n1045 Desire Street\n	\n		\n		New Orleans\,\n\n	LA\n\n	70117\n\n	United States\n\n\n\n\n	+ Google Map \n\n\n	\n					\n						\n	 \n\n\n	\n	 \n\n\n\n	\n\n\n\n		\n	\n				\n				\n					\n		\n					\n		\n				\n						\n					\n			\n						\n				\n					\n	\n		\n\n				The Lottery: The Improv Comedy Show Where You Take the stage	\n\n\n		\n	\n		Double Duos: Improv Comedy in Pairs
URL:https://bigcouchnola.com/event/cards-of-destiny-unscripted-comedy-competition-7/
LOCATION:Big Couch\, 1045 Desire Street\, New Orleans\, LA\, 70117\, United States
ATTACH;FMTTYPE=image/png:https://bigcouchnola.com/wp-content/uploads/2025/12/Cards-of-Destiny.png
ORGANIZER;CN="Big Couch":MAILTO:carrie@bigcouchnola.com
END:VEVENT
END:VCALENDAR