BEGIN:VCALENDAR
VERSION:2.0
PRODID:-//Big Couch New Orleans - ECPv6.15.20//NONSGML v1.0//EN
CALSCALE:GREGORIAN
METHOD:PUBLISH
X-WR-CALNAME:Big Couch New Orleans
X-ORIGINAL-URL:https://bigcouchnola.com
X-WR-CALDESC:Events for Big Couch New Orleans
REFRESH-INTERVAL;VALUE=DURATION:PT1H
X-Robots-Tag:noindex
X-PUBLISHED-TTL:PT1H
BEGIN:VTIMEZONE
TZID:America/Chicago
BEGIN:DAYLIGHT
TZOFFSETFROM:-0600
TZOFFSETTO:-0500
TZNAME:CDT
DTSTART:20250309T080000
END:DAYLIGHT
BEGIN:STANDARD
TZOFFSETFROM:-0500
TZOFFSETTO:-0600
TZNAME:CST
DTSTART:20251102T070000
END:STANDARD
BEGIN:DAYLIGHT
TZOFFSETFROM:-0600
TZOFFSETTO:-0500
TZNAME:CDT
DTSTART:20260308T080000
END:DAYLIGHT
BEGIN:STANDARD
TZOFFSETFROM:-0500
TZOFFSETTO:-0600
TZNAME:CST
DTSTART:20261101T070000
END:STANDARD
BEGIN:DAYLIGHT
TZOFFSETFROM:-0600
TZOFFSETTO:-0500
TZNAME:CDT
DTSTART:20270314T080000
END:DAYLIGHT
BEGIN:STANDARD
TZOFFSETFROM:-0500
TZOFFSETTO:-0600
TZNAME:CST
DTSTART:20271107T070000
END:STANDARD
END:VTIMEZONE
BEGIN:VEVENT
DTSTART;TZID=America/Chicago:20260412T193000
DTEND;TZID=America/Chicago:20260412T213000
DTSTAMP:20260423T131440
CREATED:20260221T030524Z
LAST-MODIFIED:20260221T030626Z
UID:7306-1776022200-1776029400@bigcouchnola.com
SUMMARY:Coaches' Improv Comedy Tournament
DESCRIPTION:« All Events\n 				\n				\n				\n				\n					This event has passed. \n				\n				\n				\n				\n					\n	Coaches’ Improv Comedy Tournament				\n				\n				\n				\n					\n		\n			April 12\, 2026\n\n	\n\n	  |  \n\n\n7:30 pm\n\n		\n\n\n\n	\n	  -  \n\n9:30 pm\n\n\n\n	\n				\n				\n				\n				\n					\n	\n				\n				\n				\n				\n									The coaches are in charge\, and things are about to get interesting. Big Couch’s first-ever Coaches’ Improv Tournament is here! Eight of our favorite improvisers from our faculty and Big Big Show cast have volunteered to coach brand-new troupes\, put them through their paces\, and then send them out to compete in front of you. Two nights. Multiple teams. One championship. And a live audience that gets to help decide who wins. Each team gets 12 to 14 minutes to perform their best long-form improv. Think quick wits\, bold choices\, and characters you won’t see coming. Judges will be scoring the sets\, and the audience plays a role in crowning the champion. Watching freshly-formed improv teams compete under pressure\, coached by some of New Orleans’ best improvisers\, is an absolute blast. The stakes are high\, the laughs are guaranteed\, and you’ll be part of deciding who takes home eternal glory. Both shows are approximately two hours with an intermission. 								\n				\n				\n						\n					\n			\n						\n				\n					\n		\n	get tickets online or at the door\n\n				\n				\n				\n				\n							\n			\n						\n		\n						\n				\n				\n				\n					\n	\n		\n\n	\n	Add to calendar	\n		\n	\n\n		\n			\n									\n	Google Calendar\n\n									\n	iCalendar\n\n									\n	Outlook 365\n\n									\n	Outlook Live\n\n							\n		\n\n		\n	\n\n				\n				\n					\n		\n				\n			\n						\n				\n					\n				\n				\n	\n			\n		Big Couch			\n	\n	\n	\n\n1045 Desire Street\n	\n		\n		New Orleans\,\n\n	LA\n\n	70117\n\n	United States\n\n\n\n\n	+ Google Map \n\n\n	\n					\n						\n	 \n\n\n	\n	 \n\n\n\n	\n\n\n\n		\n	\n				\n				\n					\n		\n					\n		\n				\n						\n					\n			\n						\n				\n					\n	\n		\n\n				Start of Improv Class 201: Crafting Characters - 8 weeks	\n\n\n		\n	\n		Third Lantern Lit: Summoning the Supernatural Story of You as a Writer
URL:https://bigcouchnola.com/event/coaches-improv-comedy-tournament-2/
LOCATION:Big Couch\, 1045 Desire Street\, New Orleans\, LA\, 70117\, United States
ATTACH;FMTTYPE=image/png:https://bigcouchnola.com/wp-content/uploads/2026/02/Coaches-Improv-Tournament-Presentation.png
ORGANIZER;CN="Big Couch":MAILTO:carrie@bigcouchnola.com
END:VEVENT
END:VCALENDAR