BEGIN:VCALENDAR
VERSION:2.0
PRODID:-//Big Couch New Orleans - ECPv6.15.20//NONSGML v1.0//EN
CALSCALE:GREGORIAN
METHOD:PUBLISH
X-WR-CALNAME:Big Couch New Orleans
X-ORIGINAL-URL:https://bigcouchnola.com
X-WR-CALDESC:Events for Big Couch New Orleans
REFRESH-INTERVAL;VALUE=DURATION:PT1H
X-Robots-Tag:noindex
X-PUBLISHED-TTL:PT1H
BEGIN:VTIMEZONE
TZID:America/Chicago
BEGIN:DAYLIGHT
TZOFFSETFROM:-0600
TZOFFSETTO:-0500
TZNAME:CDT
DTSTART:20250309T080000
END:DAYLIGHT
BEGIN:STANDARD
TZOFFSETFROM:-0500
TZOFFSETTO:-0600
TZNAME:CST
DTSTART:20251102T070000
END:STANDARD
BEGIN:DAYLIGHT
TZOFFSETFROM:-0600
TZOFFSETTO:-0500
TZNAME:CDT
DTSTART:20260308T080000
END:DAYLIGHT
BEGIN:STANDARD
TZOFFSETFROM:-0500
TZOFFSETTO:-0600
TZNAME:CST
DTSTART:20261101T070000
END:STANDARD
BEGIN:DAYLIGHT
TZOFFSETFROM:-0600
TZOFFSETTO:-0500
TZNAME:CDT
DTSTART:20270314T080000
END:DAYLIGHT
BEGIN:STANDARD
TZOFFSETFROM:-0500
TZOFFSETTO:-0600
TZNAME:CST
DTSTART:20271107T070000
END:STANDARD
END:VTIMEZONE
BEGIN:VEVENT
DTSTART;TZID=America/Chicago:20260613T130000
DTEND;TZID=America/Chicago:20260613T140000
DTSTAMP:20260423T145132
CREATED:20260326T185417Z
LAST-MODIFIED:20260326T190045Z
UID:7472-1781355600-1781359200@bigcouchnola.com
SUMMARY:Free Comedy Jam for Improvisers
DESCRIPTION:« All Events\n 				\n				\n				\n				\n					\n	Free Comedy Jam for Improvisers				\n				\n				\n				\n					\n		\n			June 13\, 2026\n\n	\n\n	  |  \n\n\n1:00 pm\n\n		\n\n\n\n	\n	  -  \n\n2:00 pm\n\n\n\n	\n				\n				\n				\n				\n					\n	\n				\n				\n				\n				\n									Join other comedic improvisers of all levels for a fun set of scenes. Just because improv is unscripted\, doesn’t mean you can’t practice it! We welcome improvisers of all levels to join us weekly to hone their improv skills\, learn new ones\, and connect with fun folks. An improv jam is an opportunity for anyone to perform and watch scenes. You can have an awesome time while developing your ability and observing others use theirs. Improv Jams consist of one-hour sessions on Saturdays from 1 pm to 2 pm at Big Couch – 1045 Desire St. All jams are free. We strongly encourage participation; however\, those curious about improv that just want to observe are welcome to do so! 								\n				\n				\n						\n					\n			\n						\n				\n					\n	\n		\n\n	\n	Add to calendar	\n		\n	\n\n		\n			\n									\n	Google Calendar\n\n									\n	iCalendar\n\n									\n	Outlook 365\n\n									\n	Outlook Live\n\n							\n		\n\n		\n	\n\n				\n				\n					\n		\n				\n			\n						\n				\n					\n				\n				\n	\n			\n		Big Couch			\n	\n	\n	\n\n1045 Desire Street\n	\n		\n		New Orleans\,\n\n	LA\n\n	70117\n\n	United States\n\n\n\n\n	+ Google Map \n\n\n	\n					\n						\n	 \n\n\n	\n	 \n\n\n\n	\n\n\n\n		\n	\n				\n				\n					\n		\n					\n		\n				\n						\n					\n			\n						\n				\n					\n	\n		\n\n				The Lottery: The Improv Comedy Show Where You Take the stage	\n\n\n		\n	\n		The Big Big Show: Improv Comedy Inspired by Storytelling
URL:https://bigcouchnola.com/event/free-comedy-jam-for-improvisers-19/
LOCATION:Big Couch\, 1045 Desire Street\, New Orleans\, LA\, 70117\, United States
ATTACH;FMTTYPE=image/png:https://bigcouchnola.com/wp-content/uploads/2025/12/Classes-2026-Website-1.png
ORGANIZER;CN="Big Couch":MAILTO:carrie@bigcouchnola.com
END:VEVENT
END:VCALENDAR