BEGIN:VCALENDAR
VERSION:2.0
PRODID:-//Big Couch New Orleans - ECPv6.15.20//NONSGML v1.0//EN
CALSCALE:GREGORIAN
METHOD:PUBLISH
X-WR-CALNAME:Big Couch New Orleans
X-ORIGINAL-URL:https://bigcouchnola.com
X-WR-CALDESC:Events for Big Couch New Orleans
REFRESH-INTERVAL;VALUE=DURATION:PT1H
X-Robots-Tag:noindex
X-PUBLISHED-TTL:PT1H
BEGIN:VTIMEZONE
TZID:America/Chicago
BEGIN:DAYLIGHT
TZOFFSETFROM:-0600
TZOFFSETTO:-0500
TZNAME:CDT
DTSTART:20250309T080000
END:DAYLIGHT
BEGIN:STANDARD
TZOFFSETFROM:-0500
TZOFFSETTO:-0600
TZNAME:CST
DTSTART:20251102T070000
END:STANDARD
BEGIN:DAYLIGHT
TZOFFSETFROM:-0600
TZOFFSETTO:-0500
TZNAME:CDT
DTSTART:20260308T080000
END:DAYLIGHT
BEGIN:STANDARD
TZOFFSETFROM:-0500
TZOFFSETTO:-0600
TZNAME:CST
DTSTART:20261101T070000
END:STANDARD
BEGIN:DAYLIGHT
TZOFFSETFROM:-0600
TZOFFSETTO:-0500
TZNAME:CDT
DTSTART:20270314T080000
END:DAYLIGHT
BEGIN:STANDARD
TZOFFSETFROM:-0500
TZOFFSETTO:-0600
TZNAME:CST
DTSTART:20271107T070000
END:STANDARD
END:VTIMEZONE
BEGIN:VEVENT
DTSTART;TZID=America/Chicago:20260103T210000
DTEND;TZID=America/Chicago:20260103T233000
DTSTAMP:20260423T222946
CREATED:20251218T031812Z
LAST-MODIFIED:20251218T034043Z
UID:6612-1767474000-1767483000@bigcouchnola.com
SUMMARY:New Year\, New Scenes - An Improv Comedy Jam & Board Game Night
DESCRIPTION:« All Events\n 				\n				\n				\n				\n					This event has passed. \n				\n				\n				\n				\n					\n	New Year\, New Scenes – An Improv Comedy Jam & Board Game Night				\n				\n				\n				\n					\n		\n			January 3\, 2026\n\n	\n\n	  |  \n\n\n9:00 pm\n\n		\n\n\n\n	\n	  -  \n\n11:30 pm\n\n\n\n	\n				\n				\n				\n				\n					\n	\n				\n				\n				\n				\n									Kick off 2026 with New Year\, New Scenes—an open improv comedy jam for all\, followed by a board game party!Celebrate the start of 2026 with New Year\, New Scenes\, Big Couch’s open-to-all improv comedy jam and game night! Kick off the new year by jumping onstage. Whether it’s your hundredth show or your very first\, this jam is all about fresh beginnings\, bold choices\, and saying “yes\, and” to whatever 2026 has in store. Anyone can sign up\, anyone can play\, and everyone’s guaranteed a good time. After the show\, keep the fun going with some board games. It’s the perfect chance to meet new people\, share some laughs\, and ease into the year with low-stakes\, high-joy vibes. 								\n				\n				\n						\n					\n			\n						\n				\n					\n		\n	get tickets online or at the door\n\n				\n				\n				\n				\n							\n			\n						\n		\n						\n				\n				\n				\n					\n	\n		\n\n	\n	Add to calendar	\n		\n	\n\n		\n			\n									\n	Google Calendar\n\n									\n	iCalendar\n\n									\n	Outlook 365\n\n									\n	Outlook Live\n\n							\n		\n\n		\n	\n\n				\n				\n					\n		\n				\n			\n						\n				\n					\n				\n				\n	\n			\n		Big Couch			\n	\n	\n	\n\n1045 Desire Street\n	\n		\n		New Orleans\,\n\n	LA\n\n	70117\n\n	United States\n\n\n\n\n	+ Google Map \n\n\n	\n					\n						\n	 \n\n\n	\n	 \n\n\n\n	\n\n\n\n		\n	\n				\n				\n					\n		\n					\n		\n				\n						\n					\n			\n						\n				\n					\n	\n		\n\n				The Big Big Show: Improv Comedy Inspired by Storytelling	\n\n\n		\n	\n		Third Lantern Lit presents Page to Stage Writing Workshop: Romance
URL:https://bigcouchnola.com/event/new-year-new-scenes-an-improv-comedy-jam-board-game-night/
LOCATION:Big Couch\, 1045 Desire Street\, New Orleans\, LA\, 70117\, United States
ATTACH;FMTTYPE=image/png:https://bigcouchnola.com/wp-content/uploads/2025/12/New-Year-New-Scenes.png
ORGANIZER;CN="Big Couch":MAILTO:carrie@bigcouchnola.com
END:VEVENT
END:VCALENDAR