BEGIN:VCALENDAR
VERSION:2.0
PRODID:-//Big Couch New Orleans - ECPv6.15.20//NONSGML v1.0//EN
CALSCALE:GREGORIAN
METHOD:PUBLISH
X-WR-CALNAME:Big Couch New Orleans
X-ORIGINAL-URL:https://bigcouchnola.com
X-WR-CALDESC:Events for Big Couch New Orleans
REFRESH-INTERVAL;VALUE=DURATION:PT1H
X-Robots-Tag:noindex
X-PUBLISHED-TTL:PT1H
BEGIN:VTIMEZONE
TZID:America/Chicago
BEGIN:DAYLIGHT
TZOFFSETFROM:-0600
TZOFFSETTO:-0500
TZNAME:CDT
DTSTART:20250309T080000
END:DAYLIGHT
BEGIN:STANDARD
TZOFFSETFROM:-0500
TZOFFSETTO:-0600
TZNAME:CST
DTSTART:20251102T070000
END:STANDARD
BEGIN:DAYLIGHT
TZOFFSETFROM:-0600
TZOFFSETTO:-0500
TZNAME:CDT
DTSTART:20260308T080000
END:DAYLIGHT
BEGIN:STANDARD
TZOFFSETFROM:-0500
TZOFFSETTO:-0600
TZNAME:CST
DTSTART:20261101T070000
END:STANDARD
BEGIN:DAYLIGHT
TZOFFSETFROM:-0600
TZOFFSETTO:-0500
TZNAME:CDT
DTSTART:20270314T080000
END:DAYLIGHT
BEGIN:STANDARD
TZOFFSETFROM:-0500
TZOFFSETTO:-0600
TZNAME:CST
DTSTART:20271107T070000
END:STANDARD
END:VTIMEZONE
BEGIN:VEVENT
DTSTART;TZID=America/Chicago:20260507T200000
DTEND;TZID=America/Chicago:20260507T210000
DTSTAMP:20260423T145200
CREATED:20260327T010943Z
LAST-MODIFIED:20260327T011048Z
UID:7851-1778184000-1778187600@bigcouchnola.com
SUMMARY:Showcase: Unscripted Comedy by Newly Trained Improvisers
DESCRIPTION:« All Events\n 				\n				\n				\n				\n					\n	Showcase: Unscripted Comedy by Newly Trained Improvisers				\n				\n				\n				\n					\n		\n			May 7\, 2026\n\n	\n\n	  |  \n\n\n8:00 pm\n\n		\n\n\n\n	\n	  -  \n\n9:00 pm\n\n\n\n	\n				\n				\n				\n				\n					\n	\n				\n				\n				\n				\n									Improvisers show of their new skills having completed their improv course at Big Couch Prepare for an evening that’s beyond ordinary comedy! Join us as a group of newly trained improv stars take the Big Couch stage for a show unlike any you’ve seen before. These brave comedians are ready to launch into a universe of spontaneous laughs\, unpredictable characters\, and creative chaos. Exploring the expanse of their imagination with their recently acquired skills\, Showcase performers will take you on a thrilling\, unexpected adventure to make you beam with pride and burst with laughter. Plus\, you’ll be supporting local\, emerging talent and encouraging them to continue their improv journey. 								\n				\n				\n						\n					\n			\n						\n				\n					\n		\n	get tickets online or at the door\n\n				\n				\n				\n				\n							\n			\n						\n		\n						\n				\n				\n				\n					\n	\n		\n\n	\n	Add to calendar	\n		\n	\n\n		\n			\n									\n	Google Calendar\n\n									\n	iCalendar\n\n									\n	Outlook 365\n\n									\n	Outlook Live\n\n							\n		\n\n		\n	\n\n				\n				\n					\n		\n				\n			\n						\n				\n					\n				\n				\n	\n			\n		Big Couch			\n	\n	\n	\n\n1045 Desire Street\n	\n		\n		New Orleans\,\n\n	LA\n\n	70117\n\n	United States\n\n\n\n\n	+ Google Map \n\n\n	\n					\n						\n	 \n\n\n	\n	 \n\n\n\n	\n\n\n\n		\n	\n				\n				\n					\n		\n					\n		\n				\n						\n					\n			\n						\n				\n					\n	\n		\n\n				Up Next: A Night of Rising Improv Stars	\n\n\n		\n	\n		Interstate Improv featuring Fish Tahco from BoomerAng
URL:https://bigcouchnola.com/event/showcase-unscripted-comedy-by-newly-trained-improvisers-9/
LOCATION:Big Couch\, 1045 Desire Street\, New Orleans\, LA\, 70117\, United States
ATTACH;FMTTYPE=image/png:https://bigcouchnola.com/wp-content/uploads/2025/12/Showcase.png
ORGANIZER;CN="Big Couch":MAILTO:carrie@bigcouchnola.com
END:VEVENT
END:VCALENDAR