BEGIN:VCALENDAR
VERSION:2.0
PRODID:-//Big Couch New Orleans - ECPv6.15.20//NONSGML v1.0//EN
CALSCALE:GREGORIAN
METHOD:PUBLISH
X-WR-CALNAME:Big Couch New Orleans
X-ORIGINAL-URL:https://bigcouchnola.com
X-WR-CALDESC:Events for Big Couch New Orleans
REFRESH-INTERVAL;VALUE=DURATION:PT1H
X-Robots-Tag:noindex
X-PUBLISHED-TTL:PT1H
BEGIN:VTIMEZONE
TZID:UTC
BEGIN:STANDARD
TZOFFSETFROM:+0000
TZOFFSETTO:+0000
TZNAME:UTC
DTSTART:20240101T000000
END:STANDARD
END:VTIMEZONE
BEGIN:VEVENT
DTSTART;TZID=UTC:20251205T193000
DTEND;TZID=UTC:20251205T203000
DTSTAMP:20260424T003015
CREATED:20250805T225411Z
LAST-MODIFIED:20251218T034732Z
UID:10001012-1764963000-1764966600@bigcouchnola.com
SUMMARY:Spicy Bits: Hot Sauce + Improv Comedy
DESCRIPTION:« All Events\n 				\n				\n				\n				\n					This event has passed. \n				\n				\n				\n				\n					\n	\n		\n\n	\n	\n	\n\n	\n	\n		Event Series:	\n\n	\n		\n			Spicy Bits: Hot Sauce + Improv Comedy		\n	\n\n\n	Spicy Bits: Hot Sauce + Improv Comedy				\n				\n				\n				\n					\n		\n			December 5\, 2025\n\n	\n\n	  |  \n\n\n7:30 pm\n\n		\n\n\n\n	\n	  -  \n\n8:30 pm\n\n\n\n	\n				\n				\n				\n				\n					\n	\n				\n				\n				\n				\n									Improv comedy is difficult enough. Why would anyone make it more challenging? Because watching comedians trying to perform while eating progressively spicier hot sauce is hilarious. Spicy Bits is a unique hour-long comedy show featuring improvisers performing short-form games and eating food covered in hot sauce. As the show goes on\, the games get harder\, and the sauces get hotter. Imagine u201cWhou2019s Line Is it Anyway?u201d meets u201cHot Ones.u201d This show is created by Ellery Abel and produced by Big Couch\, and features some of the funniest improvisers in New Orleans. 								\n				\n				\n						\n					\n			\n						\n				\n					\n		\n	get tickets online or at the door\n\n				\n				\n				\n				\n							\n			\n						\n		\n						\n				\n				\n				\n					\n	\n		\n\n	\n	Add to calendar	\n		\n	\n\n		\n			\n									\n	Google Calendar\n\n									\n	iCalendar\n\n									\n	Outlook 365\n\n									\n	Outlook Live\n\n							\n		\n\n		\n	\n\n				\n				\n					\n		\n				\n			\n						\n				\n					\n				\n				\n	\n			\n		Big Couch			\n	\n	\n	\n\n1045 Desire Street\n	\n		\n		New Orleans\,\n\n	LA\n\n	70117\n\n	United States\n\n\n\n\n	+ Google Map \n\n\n	\n					\n						\n	 \n\n\n	\n	 \n\n\n\n	\n\n\n\n		\n	\n				\n				\n					\n		\n					\n		\n				\n						\n					\n			\n						\n				\n					\n	\n		\n\n				Nerd Night: A Comedic Study of Science	\n\n\n		\n	\n		Discourse: A Live Comedy Debate Show
URL:https://bigcouchnola.com/event/spicy-bits-hot-sauce-improv-comedy/2025-12-05/
LOCATION:Big Couch\, 1045 Desire Street\, New Orleans\, LA\, 70117\, United States
ATTACH;FMTTYPE=image/png:https://bigcouchnola.com/wp-content/uploads/2025/08/Spicy-Bits.png
ORGANIZER;CN="Big Couch":MAILTO:carrie@bigcouchnola.com
END:VEVENT
END:VCALENDAR