BEGIN:VCALENDAR
VERSION:2.0
PRODID:-//Big Couch New Orleans - ECPv6.15.20//NONSGML v1.0//EN
CALSCALE:GREGORIAN
METHOD:PUBLISH
X-WR-CALNAME:Big Couch New Orleans
X-ORIGINAL-URL:https://bigcouchnola.com
X-WR-CALDESC:Events for Big Couch New Orleans
REFRESH-INTERVAL;VALUE=DURATION:PT1H
X-Robots-Tag:noindex
X-PUBLISHED-TTL:PT1H
BEGIN:VTIMEZONE
TZID:America/Chicago
BEGIN:DAYLIGHT
TZOFFSETFROM:-0600
TZOFFSETTO:-0500
TZNAME:CDT
DTSTART:20250309T080000
END:DAYLIGHT
BEGIN:STANDARD
TZOFFSETFROM:-0500
TZOFFSETTO:-0600
TZNAME:CST
DTSTART:20251102T070000
END:STANDARD
BEGIN:DAYLIGHT
TZOFFSETFROM:-0600
TZOFFSETTO:-0500
TZNAME:CDT
DTSTART:20260308T080000
END:DAYLIGHT
BEGIN:STANDARD
TZOFFSETFROM:-0500
TZOFFSETTO:-0600
TZNAME:CST
DTSTART:20261101T070000
END:STANDARD
BEGIN:DAYLIGHT
TZOFFSETFROM:-0600
TZOFFSETTO:-0500
TZNAME:CDT
DTSTART:20270314T080000
END:DAYLIGHT
BEGIN:STANDARD
TZOFFSETFROM:-0500
TZOFFSETTO:-0600
TZNAME:CST
DTSTART:20271107T070000
END:STANDARD
END:VTIMEZONE
BEGIN:VEVENT
DTSTART;TZID=America/Chicago:20260409T180000
DTEND;TZID=America/Chicago:20260409T203000
DTSTAMP:20260423T113420
CREATED:20260326T231952Z
LAST-MODIFIED:20260326T232147Z
UID:7657-1775757600-1775766600@bigcouchnola.com
SUMMARY:Start of Improv 101 Course - Free Fundamentals - 4 weeks
DESCRIPTION:« All Events\n 				\n				\n				\n				\n					This event has passed. \n				\n				\n				\n				\n					\n	Start of Improv 101 Course – Free Fundamentals – 4 weeks				\n				\n				\n				\n					\n		\n			April 9\, 2026\n\n	\n\n	  |  \n\n\n6:00 pm\n\n		\n\n\n\n	\n	  -  \n\n8:30 pm\n\n\n\n	\n				\n				\n				\n				\n					\n	\n				\n				\n				\n				\n									Learn the fundamentals of improv for any endeavor over 4 weeks. We think improv is an awesome foundation for connecting with others and the world\, and we want to share that with folks all over the New Orleans area. Just like a college course\, Improv 101 provides the basic concepts of a subject so that you can build upon it. Your participation in this four-week session will allow you to enhance your listening ability\, apply the concept of “yes\, and\,” gain confidence in communicating with others\, and learn how to start\, continue\, and edit improv scenes. Did you notice how that list includes competencies beyond the stage? It’s true! Improv can be helpful in anything you do. So\, whether you plan on performing or just want to laugh while you build a new skill\, you’ll find the fun here. Improv 101 consists of four two-hour classes on Thursdays (April 9\, 16\, 23\, & 30) from 6 to 8 pm at our Big Couch Location – 1045 Desire Street. All four sessions are free\, and registration is required so that we can keep classes small enough for everyone to get the attention and opportunity they deserve. At the culmination of the course\, attendees will put on an evening improv show on Thursday\, May 7 at 8:00 pm Want to know about your instructors? Visit our website – https://bigcouchnola.com/our-team/. 								\n				\n				\n						\n					\n			\n						\n				\n					\n		\n	register here\n\n				\n				\n				\n				\n							\n			\n						\n		\n						\n				\n				\n				\n					\n	\n		\n\n	\n	Add to calendar	\n		\n	\n\n		\n			\n									\n	Google Calendar\n\n									\n	iCalendar\n\n									\n	Outlook 365\n\n									\n	Outlook Live\n\n							\n		\n\n		\n	\n\n				\n				\n					\n		\n				\n			\n						\n				\n					\n				\n				\n	\n			\n		Big Couch			\n	\n	\n	\n\n1045 Desire Street\n	\n		\n		New Orleans\,\n\n	LA\n\n	70117\n\n	United States\n\n\n\n\n	+ Google Map \n\n\n	\n					\n						\n	 \n\n\n	\n	 \n\n\n\n	\n\n\n\n		\n	\n				\n				\n					\n		\n					\n		\n				\n						\n					\n			\n						\n				\n					\n	\n		\n\n				Comrades of Comedy: Improv & Standup Benefit for New Orleans DSA	\n\n\n		\n	\n		Coaches' Improv Comedy Tournament
URL:https://bigcouchnola.com/event/start-of-improv-101-course-free-fundamentals-4-weeks/
LOCATION:Big Couch\, 1045 Desire Street\, New Orleans\, LA\, 70117\, United States
ATTACH;FMTTYPE=image/png:https://bigcouchnola.com/wp-content/uploads/2026/03/Classes-2026-Website-5.png
ORGANIZER;CN="Big Couch":MAILTO:carrie@bigcouchnola.com
END:VEVENT
END:VCALENDAR