BEGIN:VCALENDAR
VERSION:2.0
PRODID:-//Big Couch New Orleans - ECPv6.15.20//NONSGML v1.0//EN
CALSCALE:GREGORIAN
METHOD:PUBLISH
X-WR-CALNAME:Big Couch New Orleans
X-ORIGINAL-URL:https://bigcouchnola.com
X-WR-CALDESC:Events for Big Couch New Orleans
REFRESH-INTERVAL;VALUE=DURATION:PT1H
X-Robots-Tag:noindex
X-PUBLISHED-TTL:PT1H
BEGIN:VTIMEZONE
TZID:America/Chicago
BEGIN:DAYLIGHT
TZOFFSETFROM:-0600
TZOFFSETTO:-0500
TZNAME:CDT
DTSTART:20250309T080000
END:DAYLIGHT
BEGIN:STANDARD
TZOFFSETFROM:-0500
TZOFFSETTO:-0600
TZNAME:CST
DTSTART:20251102T070000
END:STANDARD
BEGIN:DAYLIGHT
TZOFFSETFROM:-0600
TZOFFSETTO:-0500
TZNAME:CDT
DTSTART:20260308T080000
END:DAYLIGHT
BEGIN:STANDARD
TZOFFSETFROM:-0500
TZOFFSETTO:-0600
TZNAME:CST
DTSTART:20261101T070000
END:STANDARD
BEGIN:DAYLIGHT
TZOFFSETFROM:-0600
TZOFFSETTO:-0500
TZNAME:CDT
DTSTART:20270314T080000
END:DAYLIGHT
BEGIN:STANDARD
TZOFFSETFROM:-0500
TZOFFSETTO:-0600
TZNAME:CST
DTSTART:20271107T070000
END:STANDARD
END:VTIMEZONE
BEGIN:VEVENT
DTSTART;TZID=America/Chicago:20260221T193000
DTEND;TZID=America/Chicago:20260221T203000
DTSTAMP:20260423T184907
CREATED:20251229T021744Z
LAST-MODIFIED:20251229T021910Z
UID:6903-1771702200-1771705800@bigcouchnola.com
SUMMARY:The Big Big Show: Improv Comedy Inspired by Storytelling
DESCRIPTION:« All Events\n 				\n				\n				\n				\n					This event has passed. \n				\n				\n				\n				\n					\n	The Big Big Show: Improv Comedy Inspired by Storytelling				\n				\n				\n				\n					\n		\n			February 21\, 2026\n\n	\n\n	  |  \n\n\n7:30 pm\n\n		\n\n\n\n	\n	  -  \n\n8:30 pm\n\n\n\n	\n				\n				\n				\n				\n					\n	\n				\n				\n				\n				\n									True Stories. Top Talent. Totally Improvised. The Big Big Show turns New Orleans tales into unpredictable\, unforgettable comedy.Every Saturday night at Big Couch\, The Big Big Show brings together real stories and top-tier improv comedy. Each show incorporates with a true tales from a local guests — an artist\, bartender\, musician\, teacher\, business owner\, your eccentric neighbor. Inspired by that story’s heart\, humor\, and chaos\, our cast of fearlessly funny improvisers turns truth into hilarity\, crafting scenes that are unpredictable and unforgettable. Yes\, this is a weekly show. But\, every show features a new storyteller\, a new cast\, and\, therefore\, totally new reasons to laugh! Rooted in improv and infused with the rhythm and personality of New Orleans\, this is a show that celebrates the city’s collective voice — one story and one scene at a time. Check our social media for this week’s guest! Big Couch is a BYOB venue\, so free to stop at your favorite neighborhood bar or store for your drinks. We have concessions with soft drinks and snacks and plenty of room to lounge and chat. 								\n				\n				\n						\n					\n			\n						\n				\n					\n		\n	get tickets online or at the door\n\n				\n				\n				\n				\n							\n			\n						\n		\n						\n				\n				\n				\n					\n	\n		\n\n	\n	Add to calendar	\n		\n	\n\n		\n			\n									\n	Google Calendar\n\n									\n	iCalendar\n\n									\n	Outlook 365\n\n									\n	Outlook Live\n\n							\n		\n\n		\n	\n\n				\n				\n					\n		\n				\n			\n						\n				\n					\n				\n				\n	\n			\n		Big Couch			\n	\n	\n	\n\n1045 Desire Street\n	\n		\n		New Orleans\,\n\n	LA\n\n	70117\n\n	United States\n\n\n\n\n	+ Google Map \n\n\n	\n					\n						\n	 \n\n\n	\n	 \n\n\n\n	\n\n\n\n		\n	\n				\n				\n					\n		\n					\n		\n				\n						\n					\n			\n						\n				\n					\n	\n		\n\n				Free Comedy Jam for Improvisers	\n\n\n		\n	\n		Cards of Destiny: Unscripted Comedy Competition
URL:https://bigcouchnola.com/event/the-big-big-show-improv-comedy-inspired-by-storytelling-5/
LOCATION:Big Couch\, 1045 Desire Street\, New Orleans\, LA\, 70117\, United States
ATTACH;FMTTYPE=image/png:https://bigcouchnola.com/wp-content/uploads/2025/12/The-Big-Big-Show.png
ORGANIZER;CN="Big Couch":MAILTO:carrie@bigcouchnola.com
END:VEVENT
END:VCALENDAR