BEGIN:VCALENDAR
VERSION:2.0
PRODID:-//Big Couch New Orleans - ECPv6.15.20//NONSGML v1.0//EN
CALSCALE:GREGORIAN
METHOD:PUBLISH
X-WR-CALNAME:Big Couch New Orleans
X-ORIGINAL-URL:https://bigcouchnola.com
X-WR-CALDESC:Events for Big Couch New Orleans
REFRESH-INTERVAL;VALUE=DURATION:PT1H
X-Robots-Tag:noindex
X-PUBLISHED-TTL:PT1H
BEGIN:VTIMEZONE
TZID:America/Chicago
BEGIN:DAYLIGHT
TZOFFSETFROM:-0600
TZOFFSETTO:-0500
TZNAME:CDT
DTSTART:20250309T080000
END:DAYLIGHT
BEGIN:STANDARD
TZOFFSETFROM:-0500
TZOFFSETTO:-0600
TZNAME:CST
DTSTART:20251102T070000
END:STANDARD
BEGIN:DAYLIGHT
TZOFFSETFROM:-0600
TZOFFSETTO:-0500
TZNAME:CDT
DTSTART:20260308T080000
END:DAYLIGHT
BEGIN:STANDARD
TZOFFSETFROM:-0500
TZOFFSETTO:-0600
TZNAME:CST
DTSTART:20261101T070000
END:STANDARD
BEGIN:DAYLIGHT
TZOFFSETFROM:-0600
TZOFFSETTO:-0500
TZNAME:CDT
DTSTART:20270314T080000
END:DAYLIGHT
BEGIN:STANDARD
TZOFFSETFROM:-0500
TZOFFSETTO:-0600
TZNAME:CST
DTSTART:20271107T070000
END:STANDARD
END:VTIMEZONE
BEGIN:VEVENT
DTSTART;TZID=America/Chicago:20260407T180000
DTEND;TZID=America/Chicago:20260407T200000
DTSTAMP:20260423T113417
CREATED:20260405T230950Z
LAST-MODIFIED:20260405T231143Z
UID:7893-1775584800-1775592000@bigcouchnola.com
SUMMARY:Third Lantern Lit presents On Haunted Ground: Writing the Southern Gothic
DESCRIPTION:« All Events\n 				\n				\n				\n				\n					This event has passed. \n				\n				\n				\n				\n					\n	Third Lantern Lit presents On Haunted Ground: Writing the Southern Gothic				\n				\n				\n				\n					\n		\n			April 7\, 2026\n\n	\n\n	  |  \n\n\n6:00 pm\n\n		\n\n\n\n	\n	  -  \n\n8:00 pm\n\n\n\n	\n				\n				\n				\n				\n					\n	\n				\n				\n				\n				\n									The Southern Gothic is a genre that draws its inspiration from the shadowed parts of the American South\, where folklore\, superstition\, buried histories\, and complex social hierarchies shape the ground beneath our feet. Its motifs center the weight of violence and the grotesque\, and in its stories the past is never past; it lingers\, shaping the present in unsettling ways. Presented by Third Lantern Lit\, this generative workshop explores the rich tradition of Southern Gothic storytelling\, where place\, landscape\, memory\, and the supernatural intertwine. Through guided prompts and short exercises\, participants will begin developing their own stories\, with an emphasis on atmosphere and haunting. By the end of the session\, writers will leave with the start of a new piece and practical tools to keep building beyond the workshop. This event is free and open to the community. No RSVP required. 								\n				\n				\n						\n					\n			\n						\n				\n					\n		\n	more information\n\n				\n				\n				\n				\n							\n			\n						\n		\n						\n				\n				\n				\n					\n	\n		\n\n	\n	Add to calendar	\n		\n	\n\n		\n			\n									\n	Google Calendar\n\n									\n	iCalendar\n\n									\n	Outlook 365\n\n									\n	Outlook Live\n\n							\n		\n\n		\n	\n\n				\n				\n					\n		\n				\n			\n						\n				\n					\n				\n				\n	\n			\n		Big Couch			\n	\n	\n	\n\n1045 Desire Street\n	\n		\n		New Orleans\,\n\n	LA\n\n	70117\n\n	United States\n\n\n\n\n	+ Google Map \n\n\n	\n					\n						\n	 \n\n\n	\n	 \n\n\n\n	\n\n\n\n		\n	\n				\n				\n					\n		\n					\n		\n				\n						\n					\n			\n						\n				\n					\n	\n		\n\n				Start of Improv 301 Course: Inside the Scene - 8 weeks	\n\n\n		\n	\n		Showcase: Unscripted Comedy by Newly Trained Improvisers
URL:https://bigcouchnola.com/event/third-lantern-lit-presents-on-haunted-ground-writing-the-southern-gothic/
LOCATION:Big Couch\, 1045 Desire Street\, New Orleans\, LA\, 70117\, United States
ATTACH;FMTTYPE=image/png:https://bigcouchnola.com/wp-content/uploads/2026/04/TLL-April.png
ORGANIZER;CN="Big Couch":MAILTO:carrie@bigcouchnola.com
END:VEVENT
END:VCALENDAR