BEGIN:VCALENDAR
VERSION:2.0
PRODID:-//Big Couch New Orleans - ECPv6.15.20//NONSGML v1.0//EN
CALSCALE:GREGORIAN
METHOD:PUBLISH
X-WR-CALNAME:Big Couch New Orleans
X-ORIGINAL-URL:https://bigcouchnola.com
X-WR-CALDESC:Events for Big Couch New Orleans
REFRESH-INTERVAL;VALUE=DURATION:PT1H
X-Robots-Tag:noindex
X-PUBLISHED-TTL:PT1H
BEGIN:VTIMEZONE
TZID:America/Chicago
BEGIN:DAYLIGHT
TZOFFSETFROM:-0600
TZOFFSETTO:-0500
TZNAME:CDT
DTSTART:20250309T080000
END:DAYLIGHT
BEGIN:STANDARD
TZOFFSETFROM:-0500
TZOFFSETTO:-0600
TZNAME:CST
DTSTART:20251102T070000
END:STANDARD
BEGIN:DAYLIGHT
TZOFFSETFROM:-0600
TZOFFSETTO:-0500
TZNAME:CDT
DTSTART:20260308T080000
END:DAYLIGHT
BEGIN:STANDARD
TZOFFSETFROM:-0500
TZOFFSETTO:-0600
TZNAME:CST
DTSTART:20261101T070000
END:STANDARD
BEGIN:DAYLIGHT
TZOFFSETFROM:-0600
TZOFFSETTO:-0500
TZNAME:CDT
DTSTART:20270314T080000
END:DAYLIGHT
BEGIN:STANDARD
TZOFFSETFROM:-0500
TZOFFSETTO:-0600
TZNAME:CST
DTSTART:20271107T070000
END:STANDARD
END:VTIMEZONE
BEGIN:VEVENT
DTSTART;TZID=America/Chicago:20260516T210000
DTEND;TZID=America/Chicago:20260516T220000
DTSTAMP:20260423T151804
CREATED:20260327T011523Z
LAST-MODIFIED:20260327T011610Z
UID:7856-1778965200-1778968800@bigcouchnola.com
SUMMARY:Trust Me\, I'm a Professional: A PowerPoint Comedy Show
DESCRIPTION:« All Events\n 				\n				\n				\n				\n					\n	Trust Me\, I’m a Professional: A PowerPoint Comedy Show				\n				\n				\n				\n					\n		\n			May 16\, 2026\n\n	\n\n	  |  \n\n\n9:00 pm\n\n		\n\n\n\n	\n	  -  \n\n10:00 pm\n\n\n\n	\n				\n				\n				\n				\n					\n	\n				\n				\n				\n				\n									TEDTalks meet laughter with lectures by local comedians Join Mallory Head and Thomas Jones for “Trust Me\, I’m a Professional\,” where TED Talks meet comedy in a night of laughter and learning! With well crafted PowerPoints\, they’ll share side-splitting anecdotes and insightful musings that entertain and enlighten. Grab your friends and get ready for unique blend of fun and professionalism.								\n				\n				\n						\n					\n			\n						\n				\n					\n		\n	get tickets online or at the door\n\n				\n				\n				\n				\n							\n			\n						\n		\n						\n				\n				\n				\n					\n	\n		\n\n	\n	Add to calendar	\n		\n	\n\n		\n			\n									\n	Google Calendar\n\n									\n	iCalendar\n\n									\n	Outlook 365\n\n									\n	Outlook Live\n\n							\n		\n\n		\n	\n\n				\n				\n					\n		\n				\n			\n						\n				\n					\n				\n				\n	\n			\n		Big Couch			\n	\n	\n	\n\n1045 Desire Street\n	\n		\n		New Orleans\,\n\n	LA\n\n	70117\n\n	United States\n\n\n\n\n	+ Google Map \n\n\n	\n					\n						\n	 \n\n\n	\n	 \n\n\n\n	\n\n\n\n		\n	\n				\n				\n					\n		\n					\n		\n				\n						\n					\n			\n						\n				\n					\n	\n		\n\n				The Big Big Show: Improv Comedy Inspired by Storytelling	\n\n\n		\n	\n		Double Duos: Improv Comedy in Pairs
URL:https://bigcouchnola.com/event/trust-me-im-a-professional-a-powerpoint-comedy-show-2/
LOCATION:Big Couch\, 1045 Desire Street\, New Orleans\, LA\, 70117\, United States
ATTACH;FMTTYPE=image/png:https://bigcouchnola.com/wp-content/uploads/2026/03/Trust-Me-Eventbrite-e1774574108818.png
ORGANIZER;CN="Big Couch":MAILTO:carrie@bigcouchnola.com
END:VEVENT
END:VCALENDAR