BEGIN:VCALENDAR
VERSION:2.0
PRODID:-//Big Couch New Orleans - ECPv6.15.20//NONSGML v1.0//EN
CALSCALE:GREGORIAN
METHOD:PUBLISH
X-WR-CALNAME:Big Couch New Orleans
X-ORIGINAL-URL:https://bigcouchnola.com
X-WR-CALDESC:Events for Big Couch New Orleans
REFRESH-INTERVAL;VALUE=DURATION:PT1H
X-Robots-Tag:noindex
X-PUBLISHED-TTL:PT1H
BEGIN:VTIMEZONE
TZID:America/Chicago
BEGIN:DAYLIGHT
TZOFFSETFROM:-0600
TZOFFSETTO:-0500
TZNAME:CDT
DTSTART:20250309T080000
END:DAYLIGHT
BEGIN:STANDARD
TZOFFSETFROM:-0500
TZOFFSETTO:-0600
TZNAME:CST
DTSTART:20251102T070000
END:STANDARD
BEGIN:DAYLIGHT
TZOFFSETFROM:-0600
TZOFFSETTO:-0500
TZNAME:CDT
DTSTART:20260308T080000
END:DAYLIGHT
BEGIN:STANDARD
TZOFFSETFROM:-0500
TZOFFSETTO:-0600
TZNAME:CST
DTSTART:20261101T070000
END:STANDARD
BEGIN:DAYLIGHT
TZOFFSETFROM:-0600
TZOFFSETTO:-0500
TZNAME:CDT
DTSTART:20270314T080000
END:DAYLIGHT
BEGIN:STANDARD
TZOFFSETFROM:-0500
TZOFFSETTO:-0600
TZNAME:CST
DTSTART:20271107T070000
END:STANDARD
END:VTIMEZONE
BEGIN:VEVENT
DTSTART;TZID=America/Chicago:20260418T210000
DTEND;TZID=America/Chicago:20260418T220000
DTSTAMP:20260423T113427
CREATED:20260326T193344Z
LAST-MODIFIED:20260326T193600Z
UID:7546-1776546000-1776549600@bigcouchnola.com
SUMMARY:Up Next: A Night of Rising Improv Stars
DESCRIPTION:« All Events\n 				\n				\n				\n				\n					This event has passed. \n				\n				\n				\n				\n					\n	Up Next: A Night of Rising Improv Stars				\n				\n				\n				\n					\n		\n			April 18\, 2026\n\n	\n\n	  |  \n\n\n9:00 pm\n\n		\n\n\n\n	\n	  -  \n\n10:00 pm\n\n\n\n	\n				\n				\n				\n				\n					\n	\n				\n				\n				\n				\n									Catch the next generation of improv comedy! Up Next showcases rising stars turning spontaneous ideas into laugh-out-loud scenes. Catch the next big names in improv at Up Next\, a showcase featuring emerging troupes ready to light up the stage. Each group brings their own unique style\, fearless creativity\, and spontaneous humor to every scene. They turn ideas into moments that will have you laughing out loud. With wild characters and imaginative scenes\, Up Next is your front-row seat to the future of improv. Come cheer them on as they test boundaries\, explore new voices\, and bring the house down one scene at a time. 								\n				\n				\n						\n					\n			\n						\n				\n					\n		\n	get tickets online or at the door\n\n				\n				\n				\n				\n							\n			\n						\n		\n						\n				\n				\n				\n					\n	\n		\n\n	\n	Add to calendar	\n		\n	\n\n		\n			\n									\n	Google Calendar\n\n									\n	iCalendar\n\n									\n	Outlook 365\n\n									\n	Outlook Live\n\n							\n		\n\n		\n	\n\n				\n				\n					\n		\n				\n			\n						\n				\n					\n				\n				\n	\n			\n		Big Couch			\n	\n	\n	\n\n1045 Desire Street\n	\n		\n		New Orleans\,\n\n	LA\n\n	70117\n\n	United States\n\n\n\n\n	+ Google Map \n\n\n	\n					\n						\n	 \n\n\n	\n	 \n\n\n\n	\n\n\n\n		\n	\n				\n				\n					\n		\n					\n		\n				\n						\n					\n			\n						\n				\n					\n	\n		\n\n				The Big Big Show: Improv Comedy Inspired by Storytelling	\n\n\n		\n	\n		Fat Squirrel presents CoLab: S5 Announcement Event
URL:https://bigcouchnola.com/event/up-next-a-night-of-rising-improv-stars-4/
LOCATION:Big Couch\, 1045 Desire Street\, New Orleans\, LA\, 70117\, United States
ATTACH;FMTTYPE=image/png:https://bigcouchnola.com/wp-content/uploads/2025/12/Up-Next-1.png
ORGANIZER;CN="Big Couch":MAILTO:carrie@bigcouchnola.com
END:VEVENT
END:VCALENDAR