BEGIN:VCALENDAR
VERSION:2.0
PRODID:-//Big Couch New Orleans - ECPv6.15.20//NONSGML v1.0//EN
CALSCALE:GREGORIAN
METHOD:PUBLISH
X-WR-CALNAME:Big Couch New Orleans
X-ORIGINAL-URL:https://bigcouchnola.com
X-WR-CALDESC:Events for Big Couch New Orleans
REFRESH-INTERVAL;VALUE=DURATION:PT1H
X-Robots-Tag:noindex
X-PUBLISHED-TTL:PT1H
BEGIN:VTIMEZONE
TZID:America/Chicago
BEGIN:DAYLIGHT
TZOFFSETFROM:-0600
TZOFFSETTO:-0500
TZNAME:CDT
DTSTART:20250309T080000
END:DAYLIGHT
BEGIN:STANDARD
TZOFFSETFROM:-0500
TZOFFSETTO:-0600
TZNAME:CST
DTSTART:20251102T070000
END:STANDARD
BEGIN:DAYLIGHT
TZOFFSETFROM:-0600
TZOFFSETTO:-0500
TZNAME:CDT
DTSTART:20260308T080000
END:DAYLIGHT
BEGIN:STANDARD
TZOFFSETFROM:-0500
TZOFFSETTO:-0600
TZNAME:CST
DTSTART:20261101T070000
END:STANDARD
BEGIN:DAYLIGHT
TZOFFSETFROM:-0600
TZOFFSETTO:-0500
TZNAME:CDT
DTSTART:20270314T080000
END:DAYLIGHT
BEGIN:STANDARD
TZOFFSETFROM:-0500
TZOFFSETTO:-0600
TZNAME:CST
DTSTART:20271107T070000
END:STANDARD
END:VTIMEZONE
BEGIN:VEVENT
DTSTART;TZID=America/Chicago:20260417T193000
DTEND;TZID=America/Chicago:20260417T203000
DTSTAMP:20260423T113319
CREATED:20260327T000706Z
LAST-MODIFIED:20260406T031823Z
UID:7733-1776454200-1776457800@bigcouchnola.com
SUMMARY:Whose Friday Night Is It Anyway?!? Sketch & Improv Comedy
DESCRIPTION:« All Events\n 				\n				\n				\n				\n					This event has passed. \n				\n				\n				\n				\n					\n	Whose Friday Night Is It Anyway?!? Sketch & Improv Comedy				\n				\n				\n				\n					\n		\n			April 17\, 2026\n\n	\n\n	  |  \n\n\n7:30 pm\n\n		\n\n\n\n	\n	  -  \n\n8:30 pm\n\n\n\n	\n				\n				\n				\n				\n					\n	\n				\n				\n				\n				\n									LIVE FROM NEW ORLEANS IT’S WHOSE FRIDAY NIGHT IS IT ANYWAY!!!!! \nThe WFNIIA ensemble is back for round two combing sketch comedy with improv games! Joined by guest host Rob Krieger\, your favorite Fox 8 news anchor! \nIf you love classic\, well-known comedy television\, this is the event for you. Come laugh with us! 								\n				\n				\n						\n					\n			\n						\n				\n					\n		\n	get tickets online or at the door\n\n				\n				\n				\n				\n							\n			\n						\n		\n						\n				\n				\n				\n					\n	\n		\n\n	\n	Add to calendar	\n		\n	\n\n		\n			\n									\n	Google Calendar\n\n									\n	iCalendar\n\n									\n	Outlook 365\n\n									\n	Outlook Live\n\n							\n		\n\n		\n	\n\n				\n				\n					\n		\n				\n			\n						\n				\n					\n				\n				\n	\n			\n		Big Couch			\n	\n	\n	\n\n1045 Desire Street\n	\n		\n		New Orleans\,\n\n	LA\n\n	70117\n\n	United States\n\n\n\n\n	+ Google Map \n\n\n	\n					\n						\n	 \n\n\n	\n	 \n\n\n\n	\n\n\n\n		\n	\n				\n				\n					\n		\n					\n		\n				\n						\n					\n			\n						\n				\n					\n	\n		\n\n				Catalyst: Fast-Paced Improv Comedy from a Spark	\n\n\n		\n	\n		Open Door Policy: Improv Comedy by Us with You
URL:https://bigcouchnola.com/event/whose-friday-night-is-it-anyway-sketch-improv-comedy/
LOCATION:Big Couch\, 1045 Desire Street\, New Orleans\, LA\, 70117\, United States
ATTACH;FMTTYPE=image/png:https://bigcouchnola.com/wp-content/uploads/2025/10/Untitled-design-9.png
ORGANIZER;CN="Big Couch":MAILTO:carrie@bigcouchnola.com
END:VEVENT
END:VCALENDAR