BEGIN:VCALENDAR
VERSION:2.0
PRODID:-//Big Couch New Orleans - ECPv6.15.20//NONSGML v1.0//EN
CALSCALE:GREGORIAN
METHOD:PUBLISH
X-WR-CALNAME:Big Couch New Orleans
X-ORIGINAL-URL:https://bigcouchnola.com
X-WR-CALDESC:Events for Big Couch New Orleans
REFRESH-INTERVAL;VALUE=DURATION:PT1H
X-Robots-Tag:noindex
X-PUBLISHED-TTL:PT1H
BEGIN:VTIMEZONE
TZID:UTC
BEGIN:STANDARD
TZOFFSETFROM:+0000
TZOFFSETTO:+0000
TZNAME:UTC
DTSTART:20250101T000000
END:STANDARD
END:VTIMEZONE
BEGIN:VEVENT
DTSTART;TZID=UTC:20260222T110000
DTEND;TZID=UTC:20260222T130000
DTSTAMP:20260423T183625
CREATED:20251207T051828Z
LAST-MODIFIED:20251218T035213Z
UID:10001193-1771758000-1771765200@bigcouchnola.com
SUMMARY:Start of Improv 101 Course
DESCRIPTION:« All Events\n 				\n				\n				\n				\n					\n	Pallas Players Theatre Company presents “Hurricane Diane”				\n				\n				\n				\n					\n		\n			June 7\, 2026\n\n	\n\n	  |  \n\n\n2:00 pm\n\n			\n				\n				\n				\n				\n					\n	\n				\n				\n				\n				\n									“Meet Diane\, a permaculture gardener dripping with butch charm. She’s got supernatural abilities owing to her true identity—the Greek god Dionysus—and she’s returned to the modern world to gather mortal followers and restore the Earth to its natural state. Where better to begin than with four housewives in a suburban New Jersey cul-de-sac? In this Obie-winning comedy with a twist\, Pulitzer Prize finalist Madeleine George pens a hilarious evisceration of the blind eye we all turn to climate change and the bacchanalian catharsis that awaits us\, even in our own backyards.” Concord Theatricals. May 29-31 and June 6-7 at Big Couch NOLA . All Tickets $20. Pallas Players mission is to empower the voice of the Feminine spirit in all its forms. We highlight female presenting Playwrights\, feminine driven stories and voices of LGBTQ+ and POC. We encourage people from all walks of life to work\, share and explore the power of the feminine spirit. 								\n				\n				\n						\n					\n			\n						\n				\n					\n		\n	get tickets online or at the door\n\n				\n				\n				\n				\n							\n			\n						\n		\n						\n				\n				\n				\n					\n	\n		\n\n	\n	Add to calendar	\n		\n	\n\n		\n			\n									\n	Google Calendar\n\n									\n	iCalendar\n\n									\n	Outlook 365\n\n									\n	Outlook Live\n\n							\n		\n\n		\n	\n\n				\n				\n					\n		\n				\n			\n						\n				\n					\n				\n				\n	\n			\n		Big Couch			\n	\n	\n	\n\n1045 Desire Street\n	\n		\n		New Orleans\,\n\n	LA\n\n	70117\n\n	United States\n\n\n\n\n	+ Google Map \n\n\n	\n					\n						\n	 \n\n\n	\n	 \n\n\n\n	\n\n\n\n		\n	\n				\n				\n					\n		\n					\n		\n				\n						\n					\n			\n						\n				\n					\n	\n		\n\n				Pallas Players Theatre Company presents "Hurricane Diane"	\n\n\n		\n	\n		The Lottery: The Improv Comedy Show Where You Take the stage
URL:https://bigcouchnola.com/event/start-of-improv-101-course/
LOCATION:Big Couch\, 1045 Desire Street\, New Orleans\, LA\, 70117\, United States
ATTACH;FMTTYPE=image/png:https://bigcouchnola.com/wp-content/uploads/2025/12/1.png
ORGANIZER;CN="Big Couch":MAILTO:carrie@bigcouchnola.com
END:VEVENT
END:VCALENDAR