BEGIN:VCALENDAR
VERSION:2.0
PRODID:-//Big Couch New Orleans - ECPv6.15.20//NONSGML v1.0//EN
CALSCALE:GREGORIAN
METHOD:PUBLISH
X-WR-CALNAME:Big Couch New Orleans
X-ORIGINAL-URL:https://bigcouchnola.com
X-WR-CALDESC:Events for Big Couch New Orleans
REFRESH-INTERVAL;VALUE=DURATION:PT1H
X-Robots-Tag:noindex
X-PUBLISHED-TTL:PT1H
BEGIN:VTIMEZONE
TZID:America/Chicago
BEGIN:DAYLIGHT
TZOFFSETFROM:-0600
TZOFFSETTO:-0500
TZNAME:CDT
DTSTART:20250309T080000
END:DAYLIGHT
BEGIN:STANDARD
TZOFFSETFROM:-0500
TZOFFSETTO:-0600
TZNAME:CST
DTSTART:20251102T070000
END:STANDARD
BEGIN:DAYLIGHT
TZOFFSETFROM:-0600
TZOFFSETTO:-0500
TZNAME:CDT
DTSTART:20260308T080000
END:DAYLIGHT
BEGIN:STANDARD
TZOFFSETFROM:-0500
TZOFFSETTO:-0600
TZNAME:CST
DTSTART:20261101T070000
END:STANDARD
BEGIN:DAYLIGHT
TZOFFSETFROM:-0600
TZOFFSETTO:-0500
TZNAME:CDT
DTSTART:20270314T080000
END:DAYLIGHT
BEGIN:STANDARD
TZOFFSETFROM:-0500
TZOFFSETTO:-0600
TZNAME:CST
DTSTART:20271107T070000
END:STANDARD
END:VTIMEZONE
BEGIN:VEVENT
DTSTART;TZID=America/Chicago:20260306T193000
DTEND;TZID=America/Chicago:20260306T203000
DTSTAMP:20260423T164538
CREATED:20251229T023929Z
LAST-MODIFIED:20251229T024040Z
UID:10001302-1772825400-1772829000@bigcouchnola.com
SUMMARY:Spicy Bits: Hot Sauce + Improv Comedy
DESCRIPTION:« All Events\n 				\n				\n				\n				\n					\n	Pallas Players Theatre Company presents “Hurricane Diane”				\n				\n				\n				\n					\n		\n			June 7\, 2026\n\n	\n\n	  |  \n\n\n2:00 pm\n\n			\n				\n				\n				\n				\n					\n	\n				\n				\n				\n				\n									“Meet Diane\, a permaculture gardener dripping with butch charm. She’s got supernatural abilities owing to her true identity—the Greek god Dionysus—and she’s returned to the modern world to gather mortal followers and restore the Earth to its natural state. Where better to begin than with four housewives in a suburban New Jersey cul-de-sac? In this Obie-winning comedy with a twist\, Pulitzer Prize finalist Madeleine George pens a hilarious evisceration of the blind eye we all turn to climate change and the bacchanalian catharsis that awaits us\, even in our own backyards.” Concord Theatricals. May 29-31 and June 6-7 at Big Couch NOLA . All Tickets $20. Pallas Players mission is to empower the voice of the Feminine spirit in all its forms. We highlight female presenting Playwrights\, feminine driven stories and voices of LGBTQ+ and POC. We encourage people from all walks of life to work\, share and explore the power of the feminine spirit. 								\n				\n				\n						\n					\n			\n						\n				\n					\n		\n	get tickets online or at the door\n\n				\n				\n				\n				\n							\n			\n						\n		\n						\n				\n				\n				\n					\n	\n		\n\n	\n	Add to calendar	\n		\n	\n\n		\n			\n									\n	Google Calendar\n\n									\n	iCalendar\n\n									\n	Outlook 365\n\n									\n	Outlook Live\n\n							\n		\n\n		\n	\n\n				\n				\n					\n		\n				\n			\n						\n				\n					\n				\n				\n	\n			\n		Big Couch			\n	\n	\n	\n\n1045 Desire Street\n	\n		\n		New Orleans\,\n\n	LA\n\n	70117\n\n	United States\n\n\n\n\n	+ Google Map \n\n\n	\n					\n						\n	 \n\n\n	\n	 \n\n\n\n	\n\n\n\n		\n	\n				\n				\n					\n		\n					\n		\n				\n						\n					\n			\n						\n				\n					\n	\n		\n\n				Pallas Players Theatre Company presents "Hurricane Diane"	\n\n\n		\n	\n		The Lottery: The Improv Comedy Show Where You Take the stage
URL:https://bigcouchnola.com/event/spicy-bits-hot-sauce-improv-comedy-2/
LOCATION:Big Couch\, 1045 Desire Street\, New Orleans\, LA\, 70117\, United States
ATTACH;FMTTYPE=image/png:https://bigcouchnola.com/wp-content/uploads/2025/08/Spicy-Bits.png
ORGANIZER;CN="Big Couch":MAILTO:carrie@bigcouchnola.com
END:VEVENT
BEGIN:VEVENT
DTSTART;TZID=America/Chicago:20260306T210000
DTEND;TZID=America/Chicago:20260306T220000
DTSTAMP:20260423T164538
CREATED:20251229T024209Z
LAST-MODIFIED:20251229T024454Z
UID:10001303-1772830800-1772834400@bigcouchnola.com
SUMMARY:Discourse: A Live Comedy Debate Show
DESCRIPTION:« All Events\n 				\n				\n				\n				\n					\n	Pallas Players Theatre Company presents “Hurricane Diane”				\n				\n				\n				\n					\n		\n			June 7\, 2026\n\n	\n\n	  |  \n\n\n2:00 pm\n\n			\n				\n				\n				\n				\n					\n	\n				\n				\n				\n				\n									“Meet Diane\, a permaculture gardener dripping with butch charm. She’s got supernatural abilities owing to her true identity—the Greek god Dionysus—and she’s returned to the modern world to gather mortal followers and restore the Earth to its natural state. Where better to begin than with four housewives in a suburban New Jersey cul-de-sac? In this Obie-winning comedy with a twist\, Pulitzer Prize finalist Madeleine George pens a hilarious evisceration of the blind eye we all turn to climate change and the bacchanalian catharsis that awaits us\, even in our own backyards.” Concord Theatricals. May 29-31 and June 6-7 at Big Couch NOLA . All Tickets $20. Pallas Players mission is to empower the voice of the Feminine spirit in all its forms. We highlight female presenting Playwrights\, feminine driven stories and voices of LGBTQ+ and POC. We encourage people from all walks of life to work\, share and explore the power of the feminine spirit. 								\n				\n				\n						\n					\n			\n						\n				\n					\n		\n	get tickets online or at the door\n\n				\n				\n				\n				\n							\n			\n						\n		\n						\n				\n				\n				\n					\n	\n		\n\n	\n	Add to calendar	\n		\n	\n\n		\n			\n									\n	Google Calendar\n\n									\n	iCalendar\n\n									\n	Outlook 365\n\n									\n	Outlook Live\n\n							\n		\n\n		\n	\n\n				\n				\n					\n		\n				\n			\n						\n				\n					\n				\n				\n	\n			\n		Big Couch			\n	\n	\n	\n\n1045 Desire Street\n	\n		\n		New Orleans\,\n\n	LA\n\n	70117\n\n	United States\n\n\n\n\n	+ Google Map \n\n\n	\n					\n						\n	 \n\n\n	\n	 \n\n\n\n	\n\n\n\n		\n	\n				\n				\n					\n		\n					\n		\n				\n						\n					\n			\n						\n				\n					\n	\n		\n\n				Pallas Players Theatre Company presents "Hurricane Diane"	\n\n\n		\n	\n		The Lottery: The Improv Comedy Show Where You Take the stage
URL:https://bigcouchnola.com/event/discourse-a-live-comedy-debate-show-4/
LOCATION:Big Couch\, 1045 Desire Street\, New Orleans\, LA\, 70117\, United States
ATTACH;FMTTYPE=image/png:https://bigcouchnola.com/wp-content/uploads/2025/12/Discourse-3.png
ORGANIZER;CN="Big Couch":MAILTO:carrie@bigcouchnola.com
END:VEVENT
END:VCALENDAR