BEGIN:VCALENDAR
VERSION:2.0
PRODID:-//Big Couch New Orleans - ECPv6.15.20//NONSGML v1.0//EN
CALSCALE:GREGORIAN
METHOD:PUBLISH
X-ORIGINAL-URL:https://bigcouchnola.com
X-WR-CALDESC:Events for Big Couch New Orleans
REFRESH-INTERVAL;VALUE=DURATION:PT1H
X-Robots-Tag:noindex
X-PUBLISHED-TTL:PT1H
BEGIN:VTIMEZONE
TZID:America/Chicago
BEGIN:DAYLIGHT
TZOFFSETFROM:-0600
TZOFFSETTO:-0500
TZNAME:CDT
DTSTART:20250309T080000
END:DAYLIGHT
BEGIN:STANDARD
TZOFFSETFROM:-0500
TZOFFSETTO:-0600
TZNAME:CST
DTSTART:20251102T070000
END:STANDARD
BEGIN:DAYLIGHT
TZOFFSETFROM:-0600
TZOFFSETTO:-0500
TZNAME:CDT
DTSTART:20260308T080000
END:DAYLIGHT
BEGIN:STANDARD
TZOFFSETFROM:-0500
TZOFFSETTO:-0600
TZNAME:CST
DTSTART:20261101T070000
END:STANDARD
BEGIN:DAYLIGHT
TZOFFSETFROM:-0600
TZOFFSETTO:-0500
TZNAME:CDT
DTSTART:20270314T080000
END:DAYLIGHT
BEGIN:STANDARD
TZOFFSETFROM:-0500
TZOFFSETTO:-0600
TZNAME:CST
DTSTART:20271107T070000
END:STANDARD
END:VTIMEZONE
BEGIN:VEVENT
DTSTART;TZID=America/Chicago:20260408T180000
DTEND;TZID=America/Chicago:20260408T200000
DTSTAMP:20260423T131309
CREATED:20260326T231051Z
LAST-MODIFIED:20260326T231220Z
UID:10001381-1775671200-1775678400@bigcouchnola.com
SUMMARY:Start of Improv Class 201: Crafting Characters - 8 weeks
DESCRIPTION:« All Events\n 				\n				\n				\n				\n					\n	Pallas Players Theatre Company presents “Hurricane Diane”				\n				\n				\n				\n					\n		\n			June 7\, 2026\n\n	\n\n	  |  \n\n\n2:00 pm\n\n			\n				\n				\n				\n				\n					\n	\n				\n				\n				\n				\n									“Meet Diane\, a permaculture gardener dripping with butch charm. She’s got supernatural abilities owing to her true identity—the Greek god Dionysus—and she’s returned to the modern world to gather mortal followers and restore the Earth to its natural state. Where better to begin than with four housewives in a suburban New Jersey cul-de-sac? In this Obie-winning comedy with a twist\, Pulitzer Prize finalist Madeleine George pens a hilarious evisceration of the blind eye we all turn to climate change and the bacchanalian catharsis that awaits us\, even in our own backyards.” Concord Theatricals. May 29-31 and June 6-7 at Big Couch NOLA . All Tickets $20. Pallas Players mission is to empower the voice of the Feminine spirit in all its forms. We highlight female presenting Playwrights\, feminine driven stories and voices of LGBTQ+ and POC. We encourage people from all walks of life to work\, share and explore the power of the feminine spirit. 								\n				\n				\n						\n					\n			\n						\n				\n					\n		\n	get tickets online or at the door\n\n				\n				\n				\n				\n							\n			\n						\n		\n						\n				\n				\n				\n					\n	\n		\n\n	\n	Add to calendar	\n		\n	\n\n		\n			\n									\n	Google Calendar\n\n									\n	iCalendar\n\n									\n	Outlook 365\n\n									\n	Outlook Live\n\n							\n		\n\n		\n	\n\n				\n				\n					\n		\n				\n			\n						\n				\n					\n				\n				\n	\n			\n		Big Couch			\n	\n	\n	\n\n1045 Desire Street\n	\n		\n		New Orleans\,\n\n	LA\n\n	70117\n\n	United States\n\n\n\n\n	+ Google Map \n\n\n	\n					\n						\n	 \n\n\n	\n	 \n\n\n\n	\n\n\n\n		\n	\n				\n				\n					\n		\n					\n		\n				\n						\n					\n			\n						\n				\n					\n	\n		\n\n				Pallas Players Theatre Company presents "Hurricane Diane"	\n\n\n		\n	\n		The Lottery: The Improv Comedy Show Where You Take the stage
URL:https://bigcouchnola.com/event/start-of-improv-class-201-crafting-characters-8-weeks/
LOCATION:Big Couch\, 1045 Desire Street\, New Orleans\, LA\, 70117\, United States
ATTACH;FMTTYPE=image/png:https://bigcouchnola.com/wp-content/uploads/2026/03/Classes-2026-Website-3.png
ORGANIZER;CN="Big Couch":MAILTO:carrie@bigcouchnola.com
END:VEVENT
BEGIN:VEVENT
DTSTART;TZID=America/Chicago:20260408T180000
DTEND;TZID=America/Chicago:20260408T200000
DTSTAMP:20260423T131310
CREATED:20260326T231547Z
LAST-MODIFIED:20260326T231649Z
UID:10001383-1775671200-1775678400@bigcouchnola.com
SUMMARY:Start of Improv Class 401: Forms Focus
DESCRIPTION:« All Events\n 				\n				\n				\n				\n					\n	Pallas Players Theatre Company presents “Hurricane Diane”				\n				\n				\n				\n					\n		\n			June 7\, 2026\n\n	\n\n	  |  \n\n\n2:00 pm\n\n			\n				\n				\n				\n				\n					\n	\n				\n				\n				\n				\n									“Meet Diane\, a permaculture gardener dripping with butch charm. She’s got supernatural abilities owing to her true identity—the Greek god Dionysus—and she’s returned to the modern world to gather mortal followers and restore the Earth to its natural state. Where better to begin than with four housewives in a suburban New Jersey cul-de-sac? In this Obie-winning comedy with a twist\, Pulitzer Prize finalist Madeleine George pens a hilarious evisceration of the blind eye we all turn to climate change and the bacchanalian catharsis that awaits us\, even in our own backyards.” Concord Theatricals. May 29-31 and June 6-7 at Big Couch NOLA . All Tickets $20. Pallas Players mission is to empower the voice of the Feminine spirit in all its forms. We highlight female presenting Playwrights\, feminine driven stories and voices of LGBTQ+ and POC. We encourage people from all walks of life to work\, share and explore the power of the feminine spirit. 								\n				\n				\n						\n					\n			\n						\n				\n					\n		\n	get tickets online or at the door\n\n				\n				\n				\n				\n							\n			\n						\n		\n						\n				\n				\n				\n					\n	\n		\n\n	\n	Add to calendar	\n		\n	\n\n		\n			\n									\n	Google Calendar\n\n									\n	iCalendar\n\n									\n	Outlook 365\n\n									\n	Outlook Live\n\n							\n		\n\n		\n	\n\n				\n				\n					\n		\n				\n			\n						\n				\n					\n				\n				\n	\n			\n		Big Couch			\n	\n	\n	\n\n1045 Desire Street\n	\n		\n		New Orleans\,\n\n	LA\n\n	70117\n\n	United States\n\n\n\n\n	+ Google Map \n\n\n	\n					\n						\n	 \n\n\n	\n	 \n\n\n\n	\n\n\n\n		\n	\n				\n				\n					\n		\n					\n		\n				\n						\n					\n			\n						\n				\n					\n	\n		\n\n				Pallas Players Theatre Company presents "Hurricane Diane"	\n\n\n		\n	\n		The Lottery: The Improv Comedy Show Where You Take the stage
URL:https://bigcouchnola.com/event/start-of-improv-class-401-forms-focus/
LOCATION:Big Couch\, 1045 Desire Street\, New Orleans\, LA\, 70117\, United States
ATTACH;FMTTYPE=image/png:https://bigcouchnola.com/wp-content/uploads/2026/03/Classes-2026-Website-4.png
ORGANIZER;CN="Big Couch":MAILTO:carrie@bigcouchnola.com
END:VEVENT
BEGIN:VEVENT
DTSTART;TZID=America/Chicago:20260408T200000
DTEND;TZID=America/Chicago:20260408T213000
DTSTAMP:20260423T131310
CREATED:20260326T224210Z
LAST-MODIFIED:20260326T224306Z
UID:10001376-1775678400-1775683800@bigcouchnola.com
SUMMARY:Comrades of Comedy: Improv & Standup Benefit for New Orleans DSA
DESCRIPTION:« All Events\n 				\n				\n				\n				\n					\n	Pallas Players Theatre Company presents “Hurricane Diane”				\n				\n				\n				\n					\n		\n			June 7\, 2026\n\n	\n\n	  |  \n\n\n2:00 pm\n\n			\n				\n				\n				\n				\n					\n	\n				\n				\n				\n				\n									“Meet Diane\, a permaculture gardener dripping with butch charm. She’s got supernatural abilities owing to her true identity—the Greek god Dionysus—and she’s returned to the modern world to gather mortal followers and restore the Earth to its natural state. Where better to begin than with four housewives in a suburban New Jersey cul-de-sac? In this Obie-winning comedy with a twist\, Pulitzer Prize finalist Madeleine George pens a hilarious evisceration of the blind eye we all turn to climate change and the bacchanalian catharsis that awaits us\, even in our own backyards.” Concord Theatricals. May 29-31 and June 6-7 at Big Couch NOLA . All Tickets $20. Pallas Players mission is to empower the voice of the Feminine spirit in all its forms. We highlight female presenting Playwrights\, feminine driven stories and voices of LGBTQ+ and POC. We encourage people from all walks of life to work\, share and explore the power of the feminine spirit. 								\n				\n				\n						\n					\n			\n						\n				\n					\n		\n	get tickets online or at the door\n\n				\n				\n				\n				\n							\n			\n						\n		\n						\n				\n				\n				\n					\n	\n		\n\n	\n	Add to calendar	\n		\n	\n\n		\n			\n									\n	Google Calendar\n\n									\n	iCalendar\n\n									\n	Outlook 365\n\n									\n	Outlook Live\n\n							\n		\n\n		\n	\n\n				\n				\n					\n		\n				\n			\n						\n				\n					\n				\n				\n	\n			\n		Big Couch			\n	\n	\n	\n\n1045 Desire Street\n	\n		\n		New Orleans\,\n\n	LA\n\n	70117\n\n	United States\n\n\n\n\n	+ Google Map \n\n\n	\n					\n						\n	 \n\n\n	\n	 \n\n\n\n	\n\n\n\n		\n	\n				\n				\n					\n		\n					\n		\n				\n						\n					\n			\n						\n				\n					\n	\n		\n\n				Pallas Players Theatre Company presents "Hurricane Diane"	\n\n\n		\n	\n		The Lottery: The Improv Comedy Show Where You Take the stage
URL:https://bigcouchnola.com/event/comrades-of-comedy-improv-standup-benefit-for-new-orleans-dsa/
LOCATION:Big Couch\, 1045 Desire Street\, New Orleans\, LA\, 70117\, United States
ATTACH;FMTTYPE=image/png:https://bigcouchnola.com/wp-content/uploads/2026/03/Comrads-Presentation.png
ORGANIZER;CN="Big Couch":MAILTO:carrie@bigcouchnola.com
END:VEVENT
END:VCALENDAR