BEGIN:VCALENDAR
VERSION:2.0
PRODID:-//Big Couch New Orleans - ECPv6.15.20//NONSGML v1.0//EN
CALSCALE:GREGORIAN
METHOD:PUBLISH
X-ORIGINAL-URL:https://bigcouchnola.com
X-WR-CALDESC:Events for Big Couch New Orleans
REFRESH-INTERVAL;VALUE=DURATION:PT1H
X-Robots-Tag:noindex
X-PUBLISHED-TTL:PT1H
BEGIN:VTIMEZONE
TZID:America/Chicago
BEGIN:DAYLIGHT
TZOFFSETFROM:-0600
TZOFFSETTO:-0500
TZNAME:CDT
DTSTART:20250309T080000
END:DAYLIGHT
BEGIN:STANDARD
TZOFFSETFROM:-0500
TZOFFSETTO:-0600
TZNAME:CST
DTSTART:20251102T070000
END:STANDARD
BEGIN:DAYLIGHT
TZOFFSETFROM:-0600
TZOFFSETTO:-0500
TZNAME:CDT
DTSTART:20260308T080000
END:DAYLIGHT
BEGIN:STANDARD
TZOFFSETFROM:-0500
TZOFFSETTO:-0600
TZNAME:CST
DTSTART:20261101T070000
END:STANDARD
BEGIN:DAYLIGHT
TZOFFSETFROM:-0600
TZOFFSETTO:-0500
TZNAME:CDT
DTSTART:20270314T080000
END:DAYLIGHT
BEGIN:STANDARD
TZOFFSETFROM:-0500
TZOFFSETTO:-0600
TZNAME:CST
DTSTART:20271107T070000
END:STANDARD
END:VTIMEZONE
BEGIN:VEVENT
DTSTART;TZID=America/Chicago:20260418T130000
DTEND;TZID=America/Chicago:20260418T140000
DTSTAMP:20260423T132645
CREATED:20260326T183611Z
LAST-MODIFIED:20260326T183829Z
UID:10001344-1776517200-1776520800@bigcouchnola.com
SUMMARY:Free Comedy Jam for Improvisers
DESCRIPTION:« All Events\n 				\n				\n				\n				\n					\n	Pallas Players Theatre Company presents “Hurricane Diane”				\n				\n				\n				\n					\n		\n			June 7\, 2026\n\n	\n\n	  |  \n\n\n2:00 pm\n\n			\n				\n				\n				\n				\n					\n	\n				\n				\n				\n				\n									“Meet Diane\, a permaculture gardener dripping with butch charm. She’s got supernatural abilities owing to her true identity—the Greek god Dionysus—and she’s returned to the modern world to gather mortal followers and restore the Earth to its natural state. Where better to begin than with four housewives in a suburban New Jersey cul-de-sac? In this Obie-winning comedy with a twist\, Pulitzer Prize finalist Madeleine George pens a hilarious evisceration of the blind eye we all turn to climate change and the bacchanalian catharsis that awaits us\, even in our own backyards.” Concord Theatricals. May 29-31 and June 6-7 at Big Couch NOLA . All Tickets $20. Pallas Players mission is to empower the voice of the Feminine spirit in all its forms. We highlight female presenting Playwrights\, feminine driven stories and voices of LGBTQ+ and POC. We encourage people from all walks of life to work\, share and explore the power of the feminine spirit. 								\n				\n				\n						\n					\n			\n						\n				\n					\n		\n	get tickets online or at the door\n\n				\n				\n				\n				\n							\n			\n						\n		\n						\n				\n				\n				\n					\n	\n		\n\n	\n	Add to calendar	\n		\n	\n\n		\n			\n									\n	Google Calendar\n\n									\n	iCalendar\n\n									\n	Outlook 365\n\n									\n	Outlook Live\n\n							\n		\n\n		\n	\n\n				\n				\n					\n		\n				\n			\n						\n				\n					\n				\n				\n	\n			\n		Big Couch			\n	\n	\n	\n\n1045 Desire Street\n	\n		\n		New Orleans\,\n\n	LA\n\n	70117\n\n	United States\n\n\n\n\n	+ Google Map \n\n\n	\n					\n						\n	 \n\n\n	\n	 \n\n\n\n	\n\n\n\n		\n	\n				\n				\n					\n		\n					\n		\n				\n						\n					\n			\n						\n				\n					\n	\n		\n\n				Pallas Players Theatre Company presents "Hurricane Diane"	\n\n\n		\n	\n		The Lottery: The Improv Comedy Show Where You Take the stage
URL:https://bigcouchnola.com/event/free-comedy-jam-for-improvisers-9/
LOCATION:Big Couch\, 1045 Desire Street\, New Orleans\, LA\, 70117\, United States
ATTACH;FMTTYPE=image/png:https://bigcouchnola.com/wp-content/uploads/2025/12/Classes-2026-Website-1.png
ORGANIZER;CN="Big Couch":MAILTO:carrie@bigcouchnola.com
END:VEVENT
BEGIN:VEVENT
DTSTART;TZID=America/Chicago:20260418T193000
DTEND;TZID=America/Chicago:20260418T203000
DTSTAMP:20260423T132645
CREATED:20260326T190623Z
LAST-MODIFIED:20260326T190735Z
UID:10001354-1776540600-1776544200@bigcouchnola.com
SUMMARY:The Big Big Show: Improv Comedy Inspired by Storytelling
DESCRIPTION:« All Events\n 				\n				\n				\n				\n					\n	Pallas Players Theatre Company presents “Hurricane Diane”				\n				\n				\n				\n					\n		\n			June 7\, 2026\n\n	\n\n	  |  \n\n\n2:00 pm\n\n			\n				\n				\n				\n				\n					\n	\n				\n				\n				\n				\n									“Meet Diane\, a permaculture gardener dripping with butch charm. She’s got supernatural abilities owing to her true identity—the Greek god Dionysus—and she’s returned to the modern world to gather mortal followers and restore the Earth to its natural state. Where better to begin than with four housewives in a suburban New Jersey cul-de-sac? In this Obie-winning comedy with a twist\, Pulitzer Prize finalist Madeleine George pens a hilarious evisceration of the blind eye we all turn to climate change and the bacchanalian catharsis that awaits us\, even in our own backyards.” Concord Theatricals. May 29-31 and June 6-7 at Big Couch NOLA . All Tickets $20. Pallas Players mission is to empower the voice of the Feminine spirit in all its forms. We highlight female presenting Playwrights\, feminine driven stories and voices of LGBTQ+ and POC. We encourage people from all walks of life to work\, share and explore the power of the feminine spirit. 								\n				\n				\n						\n					\n			\n						\n				\n					\n		\n	get tickets online or at the door\n\n				\n				\n				\n				\n							\n			\n						\n		\n						\n				\n				\n				\n					\n	\n		\n\n	\n	Add to calendar	\n		\n	\n\n		\n			\n									\n	Google Calendar\n\n									\n	iCalendar\n\n									\n	Outlook 365\n\n									\n	Outlook Live\n\n							\n		\n\n		\n	\n\n				\n				\n					\n		\n				\n			\n						\n				\n					\n				\n				\n	\n			\n		Big Couch			\n	\n	\n	\n\n1045 Desire Street\n	\n		\n		New Orleans\,\n\n	LA\n\n	70117\n\n	United States\n\n\n\n\n	+ Google Map \n\n\n	\n					\n						\n	 \n\n\n	\n	 \n\n\n\n	\n\n\n\n		\n	\n				\n				\n					\n		\n					\n		\n				\n						\n					\n			\n						\n				\n					\n	\n		\n\n				Pallas Players Theatre Company presents "Hurricane Diane"	\n\n\n		\n	\n		The Lottery: The Improv Comedy Show Where You Take the stage
URL:https://bigcouchnola.com/event/the-big-big-show-improv-comedy-inspired-by-storytelling-9/
LOCATION:Big Couch\, 1045 Desire Street\, New Orleans\, LA\, 70117\, United States
ATTACH;FMTTYPE=image/png:https://bigcouchnola.com/wp-content/uploads/2025/12/The-Big-Big-Show.png
ORGANIZER;CN="Big Couch":MAILTO:carrie@bigcouchnola.com
END:VEVENT
BEGIN:VEVENT
DTSTART;TZID=America/Chicago:20260418T210000
DTEND;TZID=America/Chicago:20260418T220000
DTSTAMP:20260423T132645
CREATED:20260326T193344Z
LAST-MODIFIED:20260326T193600Z
UID:10001364-1776546000-1776549600@bigcouchnola.com
SUMMARY:Up Next: A Night of Rising Improv Stars
DESCRIPTION:« All Events\n 				\n				\n				\n				\n					\n	Pallas Players Theatre Company presents “Hurricane Diane”				\n				\n				\n				\n					\n		\n			June 7\, 2026\n\n	\n\n	  |  \n\n\n2:00 pm\n\n			\n				\n				\n				\n				\n					\n	\n				\n				\n				\n				\n									“Meet Diane\, a permaculture gardener dripping with butch charm. She’s got supernatural abilities owing to her true identity—the Greek god Dionysus—and she’s returned to the modern world to gather mortal followers and restore the Earth to its natural state. Where better to begin than with four housewives in a suburban New Jersey cul-de-sac? In this Obie-winning comedy with a twist\, Pulitzer Prize finalist Madeleine George pens a hilarious evisceration of the blind eye we all turn to climate change and the bacchanalian catharsis that awaits us\, even in our own backyards.” Concord Theatricals. May 29-31 and June 6-7 at Big Couch NOLA . All Tickets $20. Pallas Players mission is to empower the voice of the Feminine spirit in all its forms. We highlight female presenting Playwrights\, feminine driven stories and voices of LGBTQ+ and POC. We encourage people from all walks of life to work\, share and explore the power of the feminine spirit. 								\n				\n				\n						\n					\n			\n						\n				\n					\n		\n	get tickets online or at the door\n\n				\n				\n				\n				\n							\n			\n						\n		\n						\n				\n				\n				\n					\n	\n		\n\n	\n	Add to calendar	\n		\n	\n\n		\n			\n									\n	Google Calendar\n\n									\n	iCalendar\n\n									\n	Outlook 365\n\n									\n	Outlook Live\n\n							\n		\n\n		\n	\n\n				\n				\n					\n		\n				\n			\n						\n				\n					\n				\n				\n	\n			\n		Big Couch			\n	\n	\n	\n\n1045 Desire Street\n	\n		\n		New Orleans\,\n\n	LA\n\n	70117\n\n	United States\n\n\n\n\n	+ Google Map \n\n\n	\n					\n						\n	 \n\n\n	\n	 \n\n\n\n	\n\n\n\n		\n	\n				\n				\n					\n		\n					\n		\n				\n						\n					\n			\n						\n				\n					\n	\n		\n\n				Pallas Players Theatre Company presents "Hurricane Diane"	\n\n\n		\n	\n		The Lottery: The Improv Comedy Show Where You Take the stage
URL:https://bigcouchnola.com/event/up-next-a-night-of-rising-improv-stars-4/
LOCATION:Big Couch\, 1045 Desire Street\, New Orleans\, LA\, 70117\, United States
ATTACH;FMTTYPE=image/png:https://bigcouchnola.com/wp-content/uploads/2025/12/Up-Next-1.png
ORGANIZER;CN="Big Couch":MAILTO:carrie@bigcouchnola.com
END:VEVENT
END:VCALENDAR