BEGIN:VCALENDAR
VERSION:2.0
PRODID:-//Big Couch New Orleans - ECPv6.15.20//NONSGML v1.0//EN
CALSCALE:GREGORIAN
METHOD:PUBLISH
X-WR-CALNAME:Big Couch New Orleans
X-ORIGINAL-URL:https://bigcouchnola.com
X-WR-CALDESC:Events for Big Couch New Orleans
REFRESH-INTERVAL;VALUE=DURATION:PT1H
X-Robots-Tag:noindex
X-PUBLISHED-TTL:PT1H
BEGIN:VTIMEZONE
TZID:UTC
BEGIN:STANDARD
TZOFFSETFROM:+0000
TZOFFSETTO:+0000
TZNAME:UTC
DTSTART:20240101T000000
END:STANDARD
END:VTIMEZONE
BEGIN:VEVENT
DTSTART;TZID=UTC:20251114T193000
DTEND;TZID=UTC:20251114T203000
DTSTAMP:20260425T063944
CREATED:20251010T214705Z
LAST-MODIFIED:20251010T214705Z
UID:10001154-1763148600-1763152200@bigcouchnola.com
SUMMARY:Whose Friday Night Is It Anyway?!? Sketch & Improv Comedy
DESCRIPTION:LIVE FROM NEW ORLEANS IT’S WHOSE FRIDAY NIGHT IS IT ANYWAY!!!!! \nJoin the WFNIA ensemble in their inaugural performance combing sketch comedy with improv games. If you love classic\, well-known comedy television\, this is the event for you. Come laugh with us! \n TICKETS AVAILABLE ONLINE OR AT THE DOOR
URL:https://bigcouchnola.com/event/whose-friday-night-is-it/
LOCATION:Big Couch\, 1045 Desire Street\, New Orleans\, LA\, 70117\, United States
ATTACH;FMTTYPE=image/png:https://bigcouchnola.com/wp-content/uploads/2025/10/Untitled-design-9.png
ORGANIZER;CN="Big Couch":MAILTO:carrie@bigcouchnola.com
END:VEVENT
BEGIN:VEVENT
DTSTART;TZID=UTC:20251112T200000
DTEND;TZID=UTC:20251112T213000
DTSTAMP:20260425T063944
CREATED:20250318T033001Z
LAST-MODIFIED:20250318T033001Z
UID:10000888-1762977600-1762983000@bigcouchnola.com
SUMMARY:Here to Pee Comedy Tour: Live in New Orleans
DESCRIPTION:Join us in supporting a groundbreaking initiative where comedy meets activism. The “Here to Pee” comedy tour\, led by the trailblazing trans comedian Ren Q. Dawe\, is a bold and unapologetic journey through the Bible Belt and beyond\, using humor to challenge discriminatory laws. \nThe traveling red-state variety show consists of an all-trans performer lineup\, using potty humor to center discriminatory legislation that impacts gender diverse people nationally. \nThe “Here to Pee” tour is more than a comedy show; it’s a movement to flush away discriminatory laws through the power of humor. By supporting this tour\, you are helping to create a platform for trans rights and equality\, connecting communities through shared experiences and laughter. All proceeds are donated to local LGBTQ+ non-profits battling anti-LGBTQ+ ballot initiatives on the local level.. \n TICKETS AVAILABLE ONLINE OR AT THE DOOR
URL:https://bigcouchnola.com/event/here-to-pee-tour-new-orleans/
LOCATION:Big Couch\, 1045 Desire Street\, New Orleans\, LA\, 70117\, United States
ATTACH;FMTTYPE=image/png:https://bigcouchnola.com/wp-content/uploads/2025/03/Untitled-design-16.png
ORGANIZER;CN="Big Couch":MAILTO:carrie@bigcouchnola.com
END:VEVENT
BEGIN:VEVENT
DTSTART;TZID=UTC:20251111T200000
DTEND;TZID=UTC:20251111T210000
DTSTAMP:20260425T063944
CREATED:20250805T233311Z
LAST-MODIFIED:20251024T180937Z
UID:10001109-1762891200-1762894800@bigcouchnola.com
SUMMARY:Big Couch Improv Comedy Graduation
DESCRIPTION:Join us in celebrating the third graduating class of our improv comedy curriculum. These folks have spent over a year learning improv comedy through five levels of courses\, and we’re elated to mark this special occasion with a performance and a ceremony. \n TICKETS AVAILABLE ONLINE OR AT THE DOOR
URL:https://bigcouchnola.com/event/big-couch-improv-comedy-graduation-2/
LOCATION:Big Couch\, 1045 Desire Street\, New Orleans\, LA\, 70117\, United States
ATTACH;FMTTYPE=image/png:https://bigcouchnola.com/wp-content/uploads/2025/03/Graduation-Show-202410-Presentation.png
ORGANIZER;CN="Big Couch":MAILTO:carrie@bigcouchnola.com
END:VEVENT
BEGIN:VEVENT
DTSTART;TZID=UTC:20251109T180000
DTEND;TZID=UTC:20251109T213000
DTSTAMP:20260425T063944
CREATED:20251023T003534Z
LAST-MODIFIED:20251023T005702Z
UID:10001162-1762711200-1762723800@bigcouchnola.com
SUMMARY:Comedy for a Cause
DESCRIPTION:Join us for an evening of laughter\, storytelling\, and community in honor of Veteran’s Day! This special event features three unique improv comedy shows starring veterans and their funny friends. All of them know how to turn life experience into laughs! \nAlongside the comedy\, there will be a chance for veterans to share their stories\, which is a crucial step in allowing them to feel more connected to the communities they are trying to develop or re-enter after service. \nAll ticket sales benefit Children of Fallen Patriots\, supporting scholarships\, educational assistance\, and career guidance for military children who lost a parent in the line of duty. \nCan’t make it in person? No worries! Online tickets give you access to a live streams and recording. \nCome for the comedy\, stay for the community! And\, leave knowing you’ve made a difference! \nWhere: Big Couch\, 1045 Desire Street \nWhen: Sunday\, November 9\, doors open at 5:30 \nWho/What: Three unique improv comedy shows from a variety of local performers at 6\, 7\, and 8:30 PM \nCost: An In-person ticket provides access to all three shows. Those can be purchased online or at the box office on November 9. An online attendee ticket will provide a link to view all three shows live or as a recording. \n6:00pm – Two Friends Improv presents Two’s Company – improv comedy show\n7:00pm – Game Over Improv presents Read Your Briefs: Comedy but Classified – a mix of clowning\, sketch comedy\, and storytelling (open to any veteran and active duty service members who want to share their experiences)\n8:30 pm – Game Over Improv presents Sound Off! – a military-themed short-form improv show \n TICKETS AVAILABLE ONLINE OR AT THE DOOR
URL:https://bigcouchnola.com/event/comedy-for-a-cause/
LOCATION:Big Couch\, 1045 Desire Street\, New Orleans\, LA\, 70117\, United States
ATTACH;FMTTYPE=image/png:https://bigcouchnola.com/wp-content/uploads/2025/10/Untitled-design-10.png
ORGANIZER;CN="Big Couch":MAILTO:carrie@bigcouchnola.com
END:VEVENT
BEGIN:VEVENT
DTSTART;TZID=UTC:20251108T210000
DTEND;TZID=UTC:20251108T223000
DTSTAMP:20260425T063944
CREATED:20250317T025348Z
LAST-MODIFIED:20250805T234453Z
UID:10001117-1762635600-1762641000@bigcouchnola.com
SUMMARY:Cards of Destiny: Unscripted Comedy Competition
DESCRIPTION:We’ve gathered up some incredibly talented improvisers to test their abilities by chance\, and you get to decide the Ultimate Joker! \nRegular playing cards become comedy challenges\, and improvisers draw their task at random to discover their daring destiny. Whatever the card says they do\, they have to do! And\, the audience chooses who continues on to the next round based upon their performance. It’s surprising\, suspenseful\, and totally unscripted! \nCredit for this show concept goes to Dylan Rohde of Backline Comedy Theater in Omaha\, and we’re elated to continue this tradition in New Orleans! \n TICKETS AVAILABLE ONLINE OR AT THE DOOR
URL:https://bigcouchnola.com/event/cards-of-destiny-unscripted-comedy-competition/2025-11-08/
LOCATION:Big Couch\, 1045 Desire Street\, New Orleans\, LA\, 70117\, United States
ATTACH;FMTTYPE=image/png:https://bigcouchnola.com/wp-content/uploads/2025/01/Cards-of-Destiny-Presentation.png
ORGANIZER;CN="Big Couch":MAILTO:carrie@bigcouchnola.com
END:VEVENT
BEGIN:VEVENT
DTSTART;TZID=UTC:20251108T193000
DTEND;TZID=UTC:20251108T210000
DTSTAMP:20260425T063944
CREATED:20250805T230212Z
LAST-MODIFIED:20251120T175258Z
UID:10001033-1762630200-1762635600@bigcouchnola.com
SUMMARY:The Big Big Show: Improv Comedy Inspired by Storytelling
DESCRIPTION:Every Saturday night at Big Couch\, The Big Big Show brings together real stories and top-tier improv comedy. Each show incorporates with a true tales from a local guests — an artist\, bartender\, musician\, teacher\, business owner\, your eccentric neighbor. Inspired by that story’s heart\, humor\, and chaos\, our cast of fearlessly funny improvisers turns truth into hilarity\, crafting scenes that are unpredictable and unforgettable. \nYes\, this is a weekly show. But\, every show features a new storyteller\, a new cast\, and\, therefore\, totally new reasons to laugh! \nRooted in improv and infused with the rhythm and personality of New Orleans\, this is a show that celebrates the city’s collective voice — one story and one scene at a time. \n TICKETS AVAILABLE ONLINE OR AT THE DOOR
URL:https://bigcouchnola.com/event/the-big-big-show/2025-11-08/
LOCATION:Big Couch\, 1045 Desire Street\, New Orleans\, LA\, 70117\, United States
ATTACH;FMTTYPE=image/png:https://bigcouchnola.com/wp-content/uploads/2025/08/Big-Big-Show-Generic-5.png
ORGANIZER;CN="Big Couch":MAILTO:carrie@bigcouchnola.com
END:VEVENT
BEGIN:VEVENT
DTSTART;TZID=UTC:20251108T130000
DTEND;TZID=UTC:20251108T140000
DTSTAMP:20260425T063944
CREATED:20250103T101154Z
LAST-MODIFIED:20251216T215833Z
UID:10000787-1762606800-1762610400@bigcouchnola.com
SUMMARY:Free Improv Comedy Jam
DESCRIPTION:Just because improv is unscripted\, doesn’t mean you can’t practice it! We welcome improvisers of all levels to join us weekly to hone their improv skills\, learn new ones\, and connect with fun folks. An improv jam is an opportunity for anyone to perform and watch scenes. You can have an awesome time while developing your ability and observing others use theirs. \nImprov Jams consist of one-hour sessions on Saturdays from 1 pm to 2 pm at Big Couch – 1045 Desire St. \nAll jams are free\, and registration is recommended. \nWe strongly encourage participation; however\, those curious about improv that just want to observe are welcome to do so!. \n FREE REGISTRATION
URL:https://bigcouchnola.com/event/free-improv-comedy-jam-new-orleans/2025-11-08/
LOCATION:Big Couch\, 1045 Desire Street\, New Orleans\, LA\, 70117\, United States
ATTACH;FMTTYPE=image/png:https://bigcouchnola.com/wp-content/uploads/2025/01/Classes-2026-Website.png
ORGANIZER;CN="Big Couch":MAILTO:carrie@bigcouchnola.com
END:VEVENT
BEGIN:VEVENT
DTSTART;TZID=UTC:20251107T193000
DTEND;TZID=UTC:20251107T203000
DTSTAMP:20260425T063944
CREATED:20250805T225411Z
LAST-MODIFIED:20251218T034732Z
UID:10001011-1762543800-1762547400@bigcouchnola.com
SUMMARY:Spicy Bits: Hot Sauce + Improv Comedy
DESCRIPTION:Improv comedy is difficult enough. Why would anyone make it more challenging? Because watching comedians trying to perform while eating progressively spicier hot sauce is hilarious. Spicy Bits is a unique hour-long comedy show featuring improvisers performing short-form games and eating food covered in hot sauce. As the show goes on\, the games get harder\, and the sauces get hotter. Imagine “Who’s Line Is it Anyway?” meets “Hot Ones.” \nThis show is created by Ellery Abel and produced by Big Couch\, and features some of the funniest improvisers in New Orleans.
URL:https://bigcouchnola.com/event/spicy-bits-hot-sauce-improv-comedy/2025-11-07/
LOCATION:Big Couch\, 1045 Desire Street\, New Orleans\, LA\, 70117\, United States
ATTACH;FMTTYPE=image/png:https://bigcouchnola.com/wp-content/uploads/2025/08/Spicy-Bits.png
ORGANIZER;CN="Big Couch":MAILTO:carrie@bigcouchnola.com
END:VEVENT
BEGIN:VEVENT
DTSTART;TZID=UTC:20251106T200000
DTEND;TZID=UTC:20251106T220000
DTSTAMP:20260425T063944
CREATED:20250805T233639Z
LAST-MODIFIED:20250805T233639Z
UID:10001111-1762459200-1762466400@bigcouchnola.com
SUMMARY:Deep Cuts: An Improvised Mockumentary about Music
DESCRIPTION:Dig deep into the chaotic\, hilarious\, and completely unscripted world of rock stars and pop icons in Deep Cuts: An Improvised Mockumentary about Music! In this live\, fully improvised parody of VH1’s Behind the Music\, our quick-witted comedians will reveal the rise and fall (and inevitable comeback) of a fictional musical legend. \nEach performance follows the turbulent career of an artist created on the spot\, complete with absurd anecdotes\, shocking scandals\, heartfelt interviews\, and wildly inaccurate reenactments of their greatest (and weirdest) hits. Expect dramatic betrayals\, over-the-top ego clashes\, and outrageous tour mishaps—all delivered with unexpected\, side-splitting improvisation. \nWhether you’re a fan of music documentaries or just love laughing at exaggerated celebrity drama\, this show promises deep laughs. Join us for all the mayhem where the only thing more ridiculous than the fame is the fall! \nTickets available here and at the door the night of the show. \n TICKETS AVAILABLE ONLINE OR AT THE DOOR
URL:https://bigcouchnola.com/event/deep-cuts-an-improvised-mockumentary-about-music-4/
LOCATION:Big Couch\, 1045 Desire Street\, New Orleans\, LA\, 70117\, United States
ATTACH;FMTTYPE=image/png:https://bigcouchnola.com/wp-content/uploads/2025/01/Deep-Cuts-Eventbrite-2160-x-1080-px-Presentation.png
ORGANIZER;CN="Big Couch":MAILTO:carrie@bigcouchnola.com
END:VEVENT
BEGIN:VEVENT
DTSTART;TZID=UTC:20251105T200000
DTEND;TZID=UTC:20251105T210000
DTSTAMP:20260425T063944
CREATED:20250805T233458Z
LAST-MODIFIED:20250805T233458Z
UID:10001110-1762372800-1762376400@bigcouchnola.com
SUMMARY:Showcase: Unscripted Comedy by Newly Trained Improvisers
DESCRIPTION:Prepare for an evening that’s beyond ordinary comedy! Join us as a group of newly trained improv stars take the Big Couch stage for a show unlike any you’ve seen before. These brave comedians are ready to launch into a universe of spontaneous laughs\, unpredictable characters\, and creative chaos. \nExploring the expanse of their imagination with their recently acquired skills\, Showcase performers will take you on a thrilling\, unexpected adventure to make you beam with pride and burst with laughter. Plus\, you’ll be supporting local\, emerging talent and encouraging them to continue their improv journey. \n TICKETS AVAILABLE ONLINE OR AT THE DOOR
URL:https://bigcouchnola.com/event/showcase-unscripted-comedy-by-newly-trained-improvisers-20/
LOCATION:Big Couch\, 1045 Desire Street\, New Orleans\, LA\, 70117\, United States
ATTACH;FMTTYPE=image/png:https://bigcouchnola.com/wp-content/uploads/2025/01/Showcase-2025-Generic-Eventbrite-Presentation.png
ORGANIZER;CN="Big Couch":MAILTO:carrie@bigcouchnola.com
END:VEVENT
BEGIN:VEVENT
DTSTART;TZID=UTC:20251104T180000
DTEND;TZID=UTC:20251104T200000
DTSTAMP:20260425T063944
CREATED:20251103T005725Z
LAST-MODIFIED:20251103T005824Z
UID:10001163-1762279200-1762286400@bigcouchnola.com
SUMMARY:Sharpening the Knife: Revising for Fear\, Atmosphere\, and Emotional Resonance in Horror Fiction
DESCRIPTION:In horror\, revision is where the real haunting begins. Join us for a spooky session on the art of revising horror fiction. This workshop explores how later drafts become spaces of discovery: places to sharpen atmosphere\, tighten pacing\, and refine the story’s landscape of fear. Together\, we’ll uncover how to heighten tension\, deepen emotional resonance\, and craft openings that haunt readers long after the final page. Through guided discussion\, close reading of examples\, and hands-on exercises\, including a focused “Opening Scene Autopsy\,” participants will leave with practical tools to refine their own haunted worlds. \nBring your first page\, your red pen\, and your willingness to let the story haunt you! \nThis event is free. No RSVP necessary. \n LEARN MORE
URL:https://bigcouchnola.com/event/third-lantern-lit-revising-horror-fiction/
LOCATION:Big Couch\, 1045 Desire Street\, New Orleans\, LA\, 70117\, United States
ATTACH;FMTTYPE=image/png:https://bigcouchnola.com/wp-content/uploads/2025/09/Untitled-design.png
ORGANIZER;CN="Big Couch":MAILTO:carrie@bigcouchnola.com
END:VEVENT
BEGIN:VEVENT
DTSTART;TZID=UTC:20251101T210000
DTEND;TZID=UTC:20251101T223000
DTSTAMP:20260425T063944
CREATED:20251002T181500Z
LAST-MODIFIED:20251002T181500Z
UID:10001151-1762030800-1762036200@bigcouchnola.com
SUMMARY:Butterr Improv & Friends
DESCRIPTION:Step back into the ‘90s and spice up your comedy diet with Butterr\, Baton Rouge’s own homegrown long-form improv team! Their unique “Living Room” format isn’t just a throwback. It’s a throw-down of heartfelt hilarity as they transform real-life stories into unscripted\, laugh-out-loud scenes. Picture a 90s sitcom but way less predictable and with way more belly laughs. \nFeaturing Kaitlyn McQuin as the evening’s storyteller and an additional improv set from some of your Big Couch favs! \nTICKETS AVAILABLE ONLINE OR AT THE DOOR
URL:https://bigcouchnola.com/event/butterr-improv-friends/
LOCATION:Big Couch\, 1045 Desire Street\, New Orleans\, LA\, 70117\, United States
ATTACH;FMTTYPE=image/png:https://bigcouchnola.com/wp-content/uploads/2025/10/Butterr-Improv-November-Presentation-1.png
ORGANIZER;CN="Big Couch":MAILTO:carrie@bigcouchnola.com
END:VEVENT
BEGIN:VEVENT
DTSTART;TZID=UTC:20251101T193000
DTEND;TZID=UTC:20251101T210000
DTSTAMP:20260425T063944
CREATED:20250805T230212Z
LAST-MODIFIED:20251120T175258Z
UID:10001032-1762025400-1762030800@bigcouchnola.com
SUMMARY:The Big Big Show: Improv Comedy Inspired by Storytelling
DESCRIPTION:Every Saturday night at Big Couch\, The Big Big Show brings together real stories and top-tier improv comedy. Each show incorporates with a true tales from a local guests — an artist\, bartender\, musician\, teacher\, business owner\, your eccentric neighbor. Inspired by that story’s heart\, humor\, and chaos\, our cast of fearlessly funny improvisers turns truth into hilarity\, crafting scenes that are unpredictable and unforgettable. \nYes\, this is a weekly show. But\, every show features a new storyteller\, a new cast\, and\, therefore\, totally new reasons to laugh! \nRooted in improv and infused with the rhythm and personality of New Orleans\, this is a show that celebrates the city’s collective voice — one story and one scene at a time. \n TICKETS AVAILABLE ONLINE OR AT THE DOOR
URL:https://bigcouchnola.com/event/the-big-big-show/2025-11-01/
LOCATION:Big Couch\, 1045 Desire Street\, New Orleans\, LA\, 70117\, United States
ATTACH;FMTTYPE=image/png:https://bigcouchnola.com/wp-content/uploads/2025/08/Big-Big-Show-Generic-5.png
ORGANIZER;CN="Big Couch":MAILTO:carrie@bigcouchnola.com
END:VEVENT
BEGIN:VEVENT
DTSTART;TZID=UTC:20251101T130000
DTEND;TZID=UTC:20251101T140000
DTSTAMP:20260425T063944
CREATED:20250103T101154Z
LAST-MODIFIED:20251216T215833Z
UID:10000786-1762002000-1762005600@bigcouchnola.com
SUMMARY:Free Improv Comedy Jam
DESCRIPTION:Just because improv is unscripted\, doesn’t mean you can’t practice it! We welcome improvisers of all levels to join us weekly to hone their improv skills\, learn new ones\, and connect with fun folks. An improv jam is an opportunity for anyone to perform and watch scenes. You can have an awesome time while developing your ability and observing others use theirs. \nImprov Jams consist of one-hour sessions on Saturdays from 1 pm to 2 pm at Big Couch – 1045 Desire St. \nAll jams are free\, and registration is recommended. \nWe strongly encourage participation; however\, those curious about improv that just want to observe are welcome to do so!. \n FREE REGISTRATION
URL:https://bigcouchnola.com/event/free-improv-comedy-jam-new-orleans/2025-11-01/
LOCATION:Big Couch\, 1045 Desire Street\, New Orleans\, LA\, 70117\, United States
ATTACH;FMTTYPE=image/png:https://bigcouchnola.com/wp-content/uploads/2025/01/Classes-2026-Website.png
ORGANIZER;CN="Big Couch":MAILTO:carrie@bigcouchnola.com
END:VEVENT
BEGIN:VEVENT
DTSTART;TZID=UTC:20251031T180000
DTEND;TZID=UTC:20251031T233000
DTSTAMP:20260425T063944
CREATED:20251005T221003Z
LAST-MODIFIED:20251005T221003Z
UID:10001152-1761933600-1761953400@bigcouchnola.com
SUMMARY:K-Pop NOLA x Cucci Licci Present HALLYU-WEEN 2025
DESCRIPTION:Get ready\, NOLA — Halloween just got a K-Pop makeover! \nK-Pop NOLA and Cucci Licci are teaming up to bring you two back-to-back events that will shake the city harder than a comeback stage! \nFirst up is K-Pop NOLA Halloween Dance Party — an all-ages celebration filled with your favorite K-Pop songs\, Random Dance Play\, local vendors\, raffles\, and spooky prizes! Whether you’re a hardcore stan or just K-curious\, come dance like your bias is watching! \nBut don’t go ghost just yet! When the clock strikes 10\, the night transforms into something wild Tongue Ties: The K-Pop Comeback — Hallyu-Ween Edition! ️ \nThis 18+ drag and burlesque performance featuring some of New Orleans’ top local talent is not your average Halloween show. With amazing performances\, Costume Contests\, more raffles and prizes\, this will be a Seoul shaking experience! \nCome to dance. Stay to scream. Leave obsessed. Don’t forget your ones! \nK-Pop NOLA Halloween Dance Party \nFriday\, October 31 \n6 PM – 9 PM \nBig Couch\, 1045 Desire St\, Suite 101 \n$12 | All Ages \nVendors • RDP • Raffles • Prizes \n  \nTongue Ties: The K-Pop Comeback \n10 PM \n$25 | Includes Dance Party | 18+ \nDrag + Burlesque • Costume Contest • Raffles • Prizes • Screams \nTICKETS AVAILABLE ONLINE OR AT THE DOOR
URL:https://bigcouchnola.com/event/hallyu-ween/
LOCATION:Big Couch\, 1045 Desire Street\, New Orleans\, LA\, 70117\, United States
ATTACH;FMTTYPE=image/png:https://bigcouchnola.com/wp-content/uploads/2025/10/Hallyu-week.png
ORGANIZER;CN="Big Couch":MAILTO:carrie@bigcouchnola.com
END:VEVENT
BEGIN:VEVENT
DTSTART;TZID=UTC:20251027T200000
DTEND;TZID=UTC:20251027T210000
DTSTAMP:20260425T063944
CREATED:20251021T191357Z
LAST-MODIFIED:20251021T191357Z
UID:10001161-1761595200-1761598800@bigcouchnola.com
SUMMARY:Showcase: Unscripted Comedy by Newly Trained Improvisers
DESCRIPTION:Prepare for an evening that’s beyond ordinary comedy! Join us as a group of newly trained improv stars take the Big Couch stage for a show unlike any you’ve seen before. These brave comedians are ready to launch into a universe of spontaneous laughs\, unpredictable characters\, and creative chaos. \nExploring the expanse of their imagination with their recently acquired skills\, Showcase performers will take you on a thrilling\, unexpected adventure to make you beam with pride and burst with laughter. Plus\, you’ll be supporting local\, emerging talent and encouraging them to continue their improv journey. \n TICKETS AVAILABLE ONLINE OR AT THE DOOR
URL:https://bigcouchnola.com/event/showcase-unscripted-comedy-by-newly-trained-improvisers-2/
LOCATION:Big Couch\, 1045 Desire Street\, New Orleans\, LA\, 70117\, United States
ATTACH;FMTTYPE=image/png:https://bigcouchnola.com/wp-content/uploads/2025/01/Showcase-2025-Generic-Eventbrite-Presentation.png
ORGANIZER;CN="Big Couch":MAILTO:carrie@bigcouchnola.com
END:VEVENT
BEGIN:VEVENT
DTSTART;TZID=UTC:20251025T220000
DTEND;TZID=UTC:20251025T233000
DTSTAMP:20260425T063944
CREATED:20250805T233148Z
LAST-MODIFIED:20250805T233148Z
UID:10001108-1761429600-1761435000@bigcouchnola.com
SUMMARY:A Night Show with Kris Newman
DESCRIPTION:Late-night talk shows have a special kind of magic—hilarious guests\, sharp-witted interviews\, unpredictable bits\, and nonstop laughs. And here at Big Couch\, we can’t get enough of them! That’s why we’re beyond excited to host A Night Show with Kris Newman! \nStep into the world of late-night comedy with this live talk show experience\, featuring some of the funniest comics in New Orleans. Hosted by the one and only Kris Newman\, this show delivers everything you love about classic late-night television—celebrity-style interviews\, sketch comedy\, hilarious monologues\, and surprises you won’t see coming. \nExpect an evening packed with top-tier stand-up\, off-the-cuff banter\, and the kind of comedic chaos that only a live audience can bring to life. Whether you’re a die-hard fan of late-night TV or just looking for an unforgettable night out\, A Night Show with Kris Newman is the perfect way to spend an evening. \n TICKETS AVAILABLE ONLINE OR AT THE DOOR
URL:https://bigcouchnola.com/event/a-night-show-with-kris-newman-2/
LOCATION:Big Couch\, 1045 Desire Street\, New Orleans\, LA\, 70117\, United States
ATTACH;FMTTYPE=image/png:https://bigcouchnola.com/wp-content/uploads/2025/05/A-Night-Show-with-Kris-Newman-Presentation.png
ORGANIZER;CN="Big Couch":MAILTO:carrie@bigcouchnola.com
END:VEVENT
BEGIN:VEVENT
DTSTART;TZID=UTC:20251025T193000
DTEND;TZID=UTC:20251025T210000
DTSTAMP:20260425T063944
CREATED:20250926T181241Z
LAST-MODIFIED:20250926T181241Z
UID:10001150-1761420600-1761426000@bigcouchnola.com
SUMMARY:The Squirrel and the Squire
DESCRIPTION:THE SQUIRREL AND THE SQUIRE is a choose-your-own-adventure comedy show! The audience will vote live to determine what path our heroes will take on their adventure. \n TICKETS AVAILABLE ONLINE OR AT THE DOOR
URL:https://bigcouchnola.com/event/the-squirrel-and-the-squire-2/
LOCATION:Big Couch\, 1045 Desire Street\, New Orleans\, LA\, 70117\, United States
ATTACH;FMTTYPE=image/png:https://bigcouchnola.com/wp-content/uploads/2025/03/Untitled-design-17.png
ORGANIZER;CN="Big Couch":MAILTO:carrie@bigcouchnola.com
END:VEVENT
BEGIN:VEVENT
DTSTART;TZID=UTC:20251025T130000
DTEND;TZID=UTC:20251025T140000
DTSTAMP:20260425T063944
CREATED:20250103T101154Z
LAST-MODIFIED:20251216T215833Z
UID:10000785-1761397200-1761400800@bigcouchnola.com
SUMMARY:Free Improv Comedy Jam
DESCRIPTION:Just because improv is unscripted\, doesn’t mean you can’t practice it! We welcome improvisers of all levels to join us weekly to hone their improv skills\, learn new ones\, and connect with fun folks. An improv jam is an opportunity for anyone to perform and watch scenes. You can have an awesome time while developing your ability and observing others use theirs. \nImprov Jams consist of one-hour sessions on Saturdays from 1 pm to 2 pm at Big Couch – 1045 Desire St. \nAll jams are free\, and registration is recommended. \nWe strongly encourage participation; however\, those curious about improv that just want to observe are welcome to do so!. \n FREE REGISTRATION
URL:https://bigcouchnola.com/event/free-improv-comedy-jam-new-orleans/2025-10-25/
LOCATION:Big Couch\, 1045 Desire Street\, New Orleans\, LA\, 70117\, United States
ATTACH;FMTTYPE=image/png:https://bigcouchnola.com/wp-content/uploads/2025/01/Classes-2026-Website.png
ORGANIZER;CN="Big Couch":MAILTO:carrie@bigcouchnola.com
END:VEVENT
END:VCALENDAR