BEGIN:VCALENDAR
VERSION:2.0
PRODID:-//Big Couch New Orleans - ECPv6.15.20//NONSGML v1.0//EN
CALSCALE:GREGORIAN
METHOD:PUBLISH
X-WR-CALNAME:Big Couch New Orleans
X-ORIGINAL-URL:https://bigcouchnola.com
X-WR-CALDESC:Events for Big Couch New Orleans
REFRESH-INTERVAL;VALUE=DURATION:PT1H
X-Robots-Tag:noindex
X-PUBLISHED-TTL:PT1H
BEGIN:VTIMEZONE
TZID:America/Chicago
BEGIN:DAYLIGHT
TZOFFSETFROM:-0600
TZOFFSETTO:-0500
TZNAME:CDT
DTSTART:20250309T080000
END:DAYLIGHT
BEGIN:STANDARD
TZOFFSETFROM:-0500
TZOFFSETTO:-0600
TZNAME:CST
DTSTART:20251102T070000
END:STANDARD
BEGIN:DAYLIGHT
TZOFFSETFROM:-0600
TZOFFSETTO:-0500
TZNAME:CDT
DTSTART:20260308T080000
END:DAYLIGHT
BEGIN:STANDARD
TZOFFSETFROM:-0500
TZOFFSETTO:-0600
TZNAME:CST
DTSTART:20261101T070000
END:STANDARD
BEGIN:DAYLIGHT
TZOFFSETFROM:-0600
TZOFFSETTO:-0500
TZNAME:CDT
DTSTART:20270314T080000
END:DAYLIGHT
BEGIN:STANDARD
TZOFFSETFROM:-0500
TZOFFSETTO:-0600
TZNAME:CST
DTSTART:20271107T070000
END:STANDARD
END:VTIMEZONE
BEGIN:VEVENT
DTSTART;TZID=America/Chicago:20260819T200000
DTEND;TZID=America/Chicago:20260819T210000
DTSTAMP:20260425T065205
CREATED:20260326T234500Z
LAST-MODIFIED:20260326T234945Z
UID:10001392-1787169600-1787173200@bigcouchnola.com
SUMMARY:Double Duos: Improv Comedy in Pairs
DESCRIPTION:« All Events\n \n\n	Double Duos: Improv Comedy in Pairs\n			August 19\, 2026\n	  |\n8:00 pm\n	  –\n9:00 pm\n	 \nTwo improv pairs perform unscripted comedy separately and then mash-up as a double duo \nBig Couch has asked some of its favorite improvisers to partner up in this unscripted comedy show. Two pairs will perform long-form improv comedy separately\, and then mash-up for a double duo. It’s two times the laughs for one night only. \n	get tickets online or at the door\n\n	\n	Add to calendar	\n		\n	\n \n\n\n	Google Calendar\n\n\n	iCalendar\n\n\n	Outlook 365\n\n\n	Outlook Live\n\n\n\n			\n		Big Couch			\n	\n\n1045 Desire Street\n		\n		New Orleans\,\n	LA\n	70117\n	United States\n\n\n	+ Google Map \n\n					\n						\n	 \n\n\n \n\n\n\n\n				The Lottery: The Improv Comedy Show Where You Take the stage
URL:https://bigcouchnola.com/event/double-duos-improv-comedy-in-pairs-8/
LOCATION:Big Couch\, 1045 Desire Street\, New Orleans\, LA\, 70117\, United States
ATTACH;FMTTYPE=image/png:https://bigcouchnola.com/wp-content/uploads/2025/12/Double-Duos.png
ORGANIZER;CN="Big Couch":MAILTO:carrie@bigcouchnola.com
END:VEVENT
BEGIN:VEVENT
DTSTART;TZID=America/Chicago:20260820T200000
DTEND;TZID=America/Chicago:20260820T210000
DTSTAMP:20260425T065205
CREATED:20260326T235635Z
LAST-MODIFIED:20260327T000107Z
UID:10001397-1787256000-1787259600@bigcouchnola.com
SUMMARY:Catalyst: Fast-Paced Improv Comedy from a Spark
DESCRIPTION:« All Events\n \n\n	Catalyst: Fast-Paced Improv Comedy from a Spark\n			August 20\, 2026\n	  |\n8:00 pm\n	  –\n9:00 pm\n	 \nCatalyst is fast\, tangential improv where one spark ignites the next. Scenes shift quickly\, following the fun\, not the rules. \nEvery idea ignites something new. That’s the focus for Catalyst\, a high-octane improv comedy show where one moment sparks the next. It’s got no rules\, no limits\, and exists through pure momentum. Using fast\, tangential device work\, our cast of sharp improvisers create scenes that morph and expand with explosive energy. Blink\, and we’re somewhere new. \nIt’s a chain reaction of comedy where fun leads the way. \n	get tickets online or at the door\n\n	\n	Add to calendar	\n		\n	\n \n\n\n	Google Calendar\n\n\n	iCalendar\n\n\n	Outlook 365\n\n\n	Outlook Live\n\n\n\n			\n		Big Couch			\n	\n\n1045 Desire Street\n		\n		New Orleans\,\n	LA\n	70117\n	United States\n\n\n	+ Google Map \n\n					\n						\n	 \n\n\n \n\n\n\n\n				Double Duos: Improv Comedy in Pairs
URL:https://bigcouchnola.com/event/catalyst-fast-paced-improv-comedy-from-a-spark-7/
LOCATION:Big Couch\, 1045 Desire Street\, New Orleans\, LA\, 70117\, United States
ATTACH;FMTTYPE=image/png:https://bigcouchnola.com/wp-content/uploads/2025/12/Catalyst.png
ORGANIZER;CN="Big Couch":MAILTO:carrie@bigcouchnola.com
END:VEVENT
BEGIN:VEVENT
DTSTART;TZID=America/Chicago:20260821T210000
DTEND;TZID=America/Chicago:20260821T220000
DTSTAMP:20260425T065205
CREATED:20260327T001532Z
LAST-MODIFIED:20260327T001900Z
UID:10001402-1787346000-1787349600@bigcouchnola.com
SUMMARY:The Roundhouse: Turn It Around With Comedy
DESCRIPTION:« All Events\n \n\n	The Roundhouse: Turn It Around With Comedy\n			August 21\, 2026\n	  |\n9:00 pm\n	  –\n10:00 pm\n	\n		Did you ever want to see how the same old things could be different with a change of scenery? Well\, this is the show for you. Through a classic improv form known as the LaRonde\, this show explores what happens to people when everything around them changes. Are they nicer to you than they are to their mother? Are they still obnoxious when they’re in line at Whole Foods? A rotating cast of skilled improvisers will make everything up before your eyes to see how context changes everything. They’ll even play around with the form itself to see what happens!\n	get tickets online or at the door\n\n	\n	Add to calendar	\n		\n	\n \n\n\n	Google Calendar\n\n\n	iCalendar\n\n\n	Outlook 365\n\n\n	Outlook Live\n\n\n\n			\n		Big Couch			\n	\n\n1045 Desire Street\n		\n		New Orleans\,\n	LA\n	70117\n	United States\n\n\n	+ Google Map \n\n					\n						\n	 \n\n\n \n\n\n\n\n				Catalyst: Fast-Paced Improv Comedy from a Spark
URL:https://bigcouchnola.com/event/the-roundhouse-turn-it-around-with-comedy-5/
LOCATION:Big Couch\, 1045 Desire Street\, New Orleans\, LA\, 70117\, United States
ATTACH;FMTTYPE=image/png:https://bigcouchnola.com/wp-content/uploads/2026/03/Roundhouse-3.png
ORGANIZER;CN="Big Couch":MAILTO:carrie@bigcouchnola.com
END:VEVENT
BEGIN:VEVENT
DTSTART;TZID=America/Chicago:20260826T200000
DTEND;TZID=America/Chicago:20260826T210000
DTSTAMP:20260425T065205
CREATED:20260327T003017Z
LAST-MODIFIED:20260327T003442Z
UID:10001408-1787774400-1787778000@bigcouchnola.com
SUMMARY:Scene Smash Improv Comedy
DESCRIPTION:« All Events\n \n\n	Scene Smash Improv Comedy\n			August 26\, 2026\n	  |\n8:00 pm\n	  –\n9:00 pm\n	 \nChaos unfolds when Big Couch students\, alumni\, and faculty come together for a night of improv comedy. \nGet ready for a high-energy night of improv comedy with Scene Smash\, featuring students\, alumni\, and faculty from Big Couch’s improv curriculum. This show brings together performers at all stages of their improv journey for a fast-paced\, unpredictable evening of comedy. \nWatch as seasoned performers and fresh faces collide\, creating scenes that are spontaneous\, hilarious\, and totally unmissable. With the creativity of our community on full display\, no two Scene Smash shows are ever the same. \nCome for the laughs\, stay for the chaos\, and see how Big Couch performers smash the stage! \n	get tickets online or at the door\n\n	\n	Add to calendar	\n		\n	\n \n\n\n	Google Calendar\n\n\n	iCalendar\n\n\n	Outlook 365\n\n\n	Outlook Live\n\n\n\n			\n		Big Couch			\n	\n\n1045 Desire Street\n		\n		New Orleans\,\n	LA\n	70117\n	United States\n\n\n	+ Google Map \n\n					\n						\n	 \n\n\n \n\n\n\n\n				The Roundhouse: Turn It Around With Comedy
URL:https://bigcouchnola.com/event/scene-smash-improv-comedy-7/
LOCATION:Big Couch\, 1045 Desire Street\, New Orleans\, LA\, 70117\, United States
ATTACH;FMTTYPE=image/png:https://bigcouchnola.com/wp-content/uploads/2025/12/Scene-Smash.png
ORGANIZER;CN="Big Couch":MAILTO:carrie@bigcouchnola.com
END:VEVENT
BEGIN:VEVENT
DTSTART;TZID=America/Chicago:20260828T193000
DTEND;TZID=America/Chicago:20260828T203000
DTSTAMP:20260425T065205
CREATED:20260327T004533Z
LAST-MODIFIED:20260327T004947Z
UID:10001414-1787945400-1787949000@bigcouchnola.com
SUMMARY:You're Invited Improv Comedy
DESCRIPTION:« All Events\n \n\n	You’re Invited Improv Comedy\n			August 28\, 2026\n	  |\n7:30 pm\n	  –\n8:30 pm\n	 \nUnscripted comedy from an all female troupe of talented improvisers! \nConsider this your official invitation to “You’re Invited\,” an improv comedy show by an all-female troupe that transforms each performance into an uproarious celebration. \nWith boundless creativity and infectious energy\, these talented comedians seamlessly blend humor and spontaneity\, crafting a dynamic atmosphere reminiscent of an unforgettable party. The stage becomes a lively gathering where the audience is not just spectators but honored guests\, invited to share in the laughter and unpredictability. \n“You’re Invited” expertly weaves together quick-witted banter\, playful interactions\, and uproarious scenes\, ensuring that each show is a unique\, one-of-a-kind experience. \n	get tickets online or at the door\n\n	\n	Add to calendar	\n		\n	\n \n\n\n	Google Calendar\n\n\n	iCalendar\n\n\n	Outlook 365\n\n\n	Outlook Live\n\n\n\n			\n		Big Couch			\n	\n\n1045 Desire Street\n		\n		New Orleans\,\n	LA\n	70117\n	United States\n\n\n	+ Google Map \n\n					\n						\n	 \n\n\n \n\n\n\n\n				Scene Smash Improv Comedy
URL:https://bigcouchnola.com/event/youre-invited-improv-comedy-7/
LOCATION:Big Couch\, 1045 Desire Street\, New Orleans\, LA\, 70117\, United States
ATTACH;FMTTYPE=image/png:https://bigcouchnola.com/wp-content/uploads/2025/03/Youre-Invited.png
ORGANIZER;CN="Big Couch":MAILTO:carrie@bigcouchnola.com
END:VEVENT
BEGIN:VEVENT
DTSTART;TZID=America/Chicago:20260828T210000
DTEND;TZID=America/Chicago:20260828T223000
DTSTAMP:20260425T065205
CREATED:20260327T005726Z
LAST-MODIFIED:20260327T010137Z
UID:10001419-1787950800-1787956200@bigcouchnola.com
SUMMARY:Match Game: Improv Comedy Meets Game Show
DESCRIPTION:« All Events\n \n\n	Match Game: Improv Comedy Meets Game Show\n			August 28\, 2026\n	  |\n9:00 pm\n	  –\n10:30 pm\n	\nDon’t miss the Big Couch version of Match Game! Inspired by the classic TV show\, this improv comedy twist brings you outrageous “celebrity” panelists\, fill-in-the-blank questions\, and plenty of unscripted chaos. Audience members compete to see how many answers they can match with our panel—while our improvisers crank up the fun with wholly original characters and quick banter. It’s unscripted\, unruly\, and un-blanking-believable!\n	get tickets online or at the door\n\n	\n	Add to calendar	\n		\n	\n \n\n\n	Google Calendar\n\n\n	iCalendar\n\n\n	Outlook 365\n\n\n	Outlook Live\n\n\n\n			\n		Big Couch			\n	\n\n1045 Desire Street\n		\n		New Orleans\,\n	LA\n	70117\n	United States\n\n\n	+ Google Map \n\n					\n						\n	 \n\n\n \n\n\n\n\n				You're Invited Improv Comedy
URL:https://bigcouchnola.com/event/match-game-improv-comedy-meets-game-show-8/
LOCATION:Big Couch\, 1045 Desire Street\, New Orleans\, LA\, 70117\, United States
ATTACH;FMTTYPE=image/png:https://bigcouchnola.com/wp-content/uploads/2025/12/Match-Game.png
ORGANIZER;CN="Big Couch":MAILTO:carrie@bigcouchnola.com
END:VEVENT
END:VCALENDAR