BEGIN:VCALENDAR
VERSION:2.0
PRODID:-//Big Couch New Orleans - ECPv6.15.20//NONSGML v1.0//EN
CALSCALE:GREGORIAN
METHOD:PUBLISH
X-WR-CALNAME:Big Couch New Orleans
X-ORIGINAL-URL:https://bigcouchnola.com
X-WR-CALDESC:Events for Big Couch New Orleans
REFRESH-INTERVAL;VALUE=DURATION:PT1H
X-Robots-Tag:noindex
X-PUBLISHED-TTL:PT1H
BEGIN:VTIMEZONE
TZID:UTC
BEGIN:STANDARD
TZOFFSETFROM:+0000
TZOFFSETTO:+0000
TZNAME:UTC
DTSTART:20240101T000000
END:STANDARD
END:VTIMEZONE
BEGIN:VEVENT
DTSTART;TZID=UTC:20251101T130000
DTEND;TZID=UTC:20251101T140000
DTSTAMP:20260424T091429
CREATED:20250103T101154Z
LAST-MODIFIED:20251216T215833Z
UID:10000786-1762002000-1762005600@bigcouchnola.com
SUMMARY:Free Improv Comedy Jam
DESCRIPTION:« All Events\n 				\n				\n				\n				\n					\n	The Lottery: The Improv Comedy Show Where You Take the stage				\n				\n				\n				\n					\n		\n			July 8\, 2026\n\n	\n\n	  |  \n\n\n8:00 pm\n\n		\n\n\n\n	\n	  -  \n\n9:00 pm\n\n\n\n	\n				\n				\n				\n				\n					\n	\n				\n				\n				\n				\n									Enter The Lottery! Audience members with improv experience can be randomly selected to join seasoned performers on stage for long-form fun. Take a chance with The Lottery\, a long-form improv show where any audience member with some improv experience can enter a random drawing for the opportunity to perform with seasoned improvisers. Sign-ups start at 7:45 pm. And\, at 8 pm\, we’ll draw a few lucky names\, giving participants a shot at extra stage time\, new collaborations\, and the thrill of creating scenes on the spot. Every show is a fresh draw\, a new chance\, and a totally improvised adventure. Will your name be called? Step up\, take your chance\, and see what unfolds! Spectators welcome as participation in the random drawing is NOT required\, and a supportive audience always makes a show better! 								\n				\n				\n						\n					\n			\n						\n				\n					\n		\n	get tickets online or at the door\n\n				\n				\n				\n				\n							\n			\n						\n		\n						\n				\n				\n				\n					\n	\n		\n\n	\n	Add to calendar	\n		\n	\n\n		\n			\n									\n	Google Calendar\n\n									\n	iCalendar\n\n									\n	Outlook 365\n\n									\n	Outlook Live\n\n							\n		\n\n		\n	\n\n				\n				\n					\n		\n				\n			\n						\n				\n					\n				\n				\n	\n			\n		Big Couch			\n	\n	\n	\n\n1045 Desire Street\n	\n		\n		New Orleans\,\n\n	LA\n\n	70117\n\n	United States\n\n\n\n\n	+ Google Map \n\n\n	\n					\n						\n	 \n\n\n	\n	 \n\n\n\n	\n\n\n\n		\n	\n				\n				\n					\n		\n					\n		\n				\n						\n					\n			\n						\n				\n					\n	\n		\n\n				Discourse: A Live Comedy Debate Show	\n\n\n		\n	\n		Cards of Destiny: Unscripted Comedy Competition
URL:https://bigcouchnola.com/event/free-improv-comedy-jam-new-orleans/2025-11-01/
LOCATION:Big Couch\, 1045 Desire Street\, New Orleans\, LA\, 70117\, United States
ATTACH;FMTTYPE=image/png:https://bigcouchnola.com/wp-content/uploads/2025/01/Classes-2026-Website.png
ORGANIZER;CN="Big Couch":MAILTO:carrie@bigcouchnola.com
END:VEVENT
BEGIN:VEVENT
DTSTART;TZID=UTC:20251031T180000
DTEND;TZID=UTC:20251031T233000
DTSTAMP:20260424T091429
CREATED:20251005T221003Z
LAST-MODIFIED:20251005T221003Z
UID:10001152-1761933600-1761953400@bigcouchnola.com
SUMMARY:K-Pop NOLA x Cucci Licci Present HALLYU-WEEN 2025
DESCRIPTION:« All Events\n 				\n				\n				\n				\n					\n	The Lottery: The Improv Comedy Show Where You Take the stage				\n				\n				\n				\n					\n		\n			July 8\, 2026\n\n	\n\n	  |  \n\n\n8:00 pm\n\n		\n\n\n\n	\n	  -  \n\n9:00 pm\n\n\n\n	\n				\n				\n				\n				\n					\n	\n				\n				\n				\n				\n									Enter The Lottery! Audience members with improv experience can be randomly selected to join seasoned performers on stage for long-form fun. Take a chance with The Lottery\, a long-form improv show where any audience member with some improv experience can enter a random drawing for the opportunity to perform with seasoned improvisers. Sign-ups start at 7:45 pm. And\, at 8 pm\, we’ll draw a few lucky names\, giving participants a shot at extra stage time\, new collaborations\, and the thrill of creating scenes on the spot. Every show is a fresh draw\, a new chance\, and a totally improvised adventure. Will your name be called? Step up\, take your chance\, and see what unfolds! Spectators welcome as participation in the random drawing is NOT required\, and a supportive audience always makes a show better! 								\n				\n				\n						\n					\n			\n						\n				\n					\n		\n	get tickets online or at the door\n\n				\n				\n				\n				\n							\n			\n						\n		\n						\n				\n				\n				\n					\n	\n		\n\n	\n	Add to calendar	\n		\n	\n\n		\n			\n									\n	Google Calendar\n\n									\n	iCalendar\n\n									\n	Outlook 365\n\n									\n	Outlook Live\n\n							\n		\n\n		\n	\n\n				\n				\n					\n		\n				\n			\n						\n				\n					\n				\n				\n	\n			\n		Big Couch			\n	\n	\n	\n\n1045 Desire Street\n	\n		\n		New Orleans\,\n\n	LA\n\n	70117\n\n	United States\n\n\n\n\n	+ Google Map \n\n\n	\n					\n						\n	 \n\n\n	\n	 \n\n\n\n	\n\n\n\n		\n	\n				\n				\n					\n		\n					\n		\n				\n						\n					\n			\n						\n				\n					\n	\n		\n\n				Discourse: A Live Comedy Debate Show	\n\n\n		\n	\n		Cards of Destiny: Unscripted Comedy Competition
URL:https://bigcouchnola.com/event/hallyu-ween/
LOCATION:Big Couch\, 1045 Desire Street\, New Orleans\, LA\, 70117\, United States
ATTACH;FMTTYPE=image/png:https://bigcouchnola.com/wp-content/uploads/2025/10/Hallyu-week.png
ORGANIZER;CN="Big Couch":MAILTO:carrie@bigcouchnola.com
END:VEVENT
BEGIN:VEVENT
DTSTART;TZID=UTC:20251027T200000
DTEND;TZID=UTC:20251027T210000
DTSTAMP:20260424T091429
CREATED:20251021T191357Z
LAST-MODIFIED:20251021T191357Z
UID:10001161-1761595200-1761598800@bigcouchnola.com
SUMMARY:Showcase: Unscripted Comedy by Newly Trained Improvisers
DESCRIPTION:« All Events\n 				\n				\n				\n				\n					\n	The Lottery: The Improv Comedy Show Where You Take the stage				\n				\n				\n				\n					\n		\n			July 8\, 2026\n\n	\n\n	  |  \n\n\n8:00 pm\n\n		\n\n\n\n	\n	  -  \n\n9:00 pm\n\n\n\n	\n				\n				\n				\n				\n					\n	\n				\n				\n				\n				\n									Enter The Lottery! Audience members with improv experience can be randomly selected to join seasoned performers on stage for long-form fun. Take a chance with The Lottery\, a long-form improv show where any audience member with some improv experience can enter a random drawing for the opportunity to perform with seasoned improvisers. Sign-ups start at 7:45 pm. And\, at 8 pm\, we’ll draw a few lucky names\, giving participants a shot at extra stage time\, new collaborations\, and the thrill of creating scenes on the spot. Every show is a fresh draw\, a new chance\, and a totally improvised adventure. Will your name be called? Step up\, take your chance\, and see what unfolds! Spectators welcome as participation in the random drawing is NOT required\, and a supportive audience always makes a show better! 								\n				\n				\n						\n					\n			\n						\n				\n					\n		\n	get tickets online or at the door\n\n				\n				\n				\n				\n							\n			\n						\n		\n						\n				\n				\n				\n					\n	\n		\n\n	\n	Add to calendar	\n		\n	\n\n		\n			\n									\n	Google Calendar\n\n									\n	iCalendar\n\n									\n	Outlook 365\n\n									\n	Outlook Live\n\n							\n		\n\n		\n	\n\n				\n				\n					\n		\n				\n			\n						\n				\n					\n				\n				\n	\n			\n		Big Couch			\n	\n	\n	\n\n1045 Desire Street\n	\n		\n		New Orleans\,\n\n	LA\n\n	70117\n\n	United States\n\n\n\n\n	+ Google Map \n\n\n	\n					\n						\n	 \n\n\n	\n	 \n\n\n\n	\n\n\n\n		\n	\n				\n				\n					\n		\n					\n		\n				\n						\n					\n			\n						\n				\n					\n	\n		\n\n				Discourse: A Live Comedy Debate Show	\n\n\n		\n	\n		Cards of Destiny: Unscripted Comedy Competition
URL:https://bigcouchnola.com/event/showcase-unscripted-comedy-by-newly-trained-improvisers-2/
LOCATION:Big Couch\, 1045 Desire Street\, New Orleans\, LA\, 70117\, United States
ATTACH;FMTTYPE=image/png:https://bigcouchnola.com/wp-content/uploads/2025/01/Showcase-2025-Generic-Eventbrite-Presentation.png
ORGANIZER;CN="Big Couch":MAILTO:carrie@bigcouchnola.com
END:VEVENT
BEGIN:VEVENT
DTSTART;TZID=UTC:20251025T220000
DTEND;TZID=UTC:20251025T233000
DTSTAMP:20260424T091429
CREATED:20250805T233148Z
LAST-MODIFIED:20250805T233148Z
UID:10001108-1761429600-1761435000@bigcouchnola.com
SUMMARY:A Night Show with Kris Newman
DESCRIPTION:« All Events\n 				\n				\n				\n				\n					\n	The Lottery: The Improv Comedy Show Where You Take the stage				\n				\n				\n				\n					\n		\n			July 8\, 2026\n\n	\n\n	  |  \n\n\n8:00 pm\n\n		\n\n\n\n	\n	  -  \n\n9:00 pm\n\n\n\n	\n				\n				\n				\n				\n					\n	\n				\n				\n				\n				\n									Enter The Lottery! Audience members with improv experience can be randomly selected to join seasoned performers on stage for long-form fun. Take a chance with The Lottery\, a long-form improv show where any audience member with some improv experience can enter a random drawing for the opportunity to perform with seasoned improvisers. Sign-ups start at 7:45 pm. And\, at 8 pm\, we’ll draw a few lucky names\, giving participants a shot at extra stage time\, new collaborations\, and the thrill of creating scenes on the spot. Every show is a fresh draw\, a new chance\, and a totally improvised adventure. Will your name be called? Step up\, take your chance\, and see what unfolds! Spectators welcome as participation in the random drawing is NOT required\, and a supportive audience always makes a show better! 								\n				\n				\n						\n					\n			\n						\n				\n					\n		\n	get tickets online or at the door\n\n				\n				\n				\n				\n							\n			\n						\n		\n						\n				\n				\n				\n					\n	\n		\n\n	\n	Add to calendar	\n		\n	\n\n		\n			\n									\n	Google Calendar\n\n									\n	iCalendar\n\n									\n	Outlook 365\n\n									\n	Outlook Live\n\n							\n		\n\n		\n	\n\n				\n				\n					\n		\n				\n			\n						\n				\n					\n				\n				\n	\n			\n		Big Couch			\n	\n	\n	\n\n1045 Desire Street\n	\n		\n		New Orleans\,\n\n	LA\n\n	70117\n\n	United States\n\n\n\n\n	+ Google Map \n\n\n	\n					\n						\n	 \n\n\n	\n	 \n\n\n\n	\n\n\n\n		\n	\n				\n				\n					\n		\n					\n		\n				\n						\n					\n			\n						\n				\n					\n	\n		\n\n				Discourse: A Live Comedy Debate Show	\n\n\n		\n	\n		Cards of Destiny: Unscripted Comedy Competition
URL:https://bigcouchnola.com/event/a-night-show-with-kris-newman-2/
LOCATION:Big Couch\, 1045 Desire Street\, New Orleans\, LA\, 70117\, United States
ATTACH;FMTTYPE=image/png:https://bigcouchnola.com/wp-content/uploads/2025/05/A-Night-Show-with-Kris-Newman-Presentation.png
ORGANIZER;CN="Big Couch":MAILTO:carrie@bigcouchnola.com
END:VEVENT
BEGIN:VEVENT
DTSTART;TZID=UTC:20251025T193000
DTEND;TZID=UTC:20251025T210000
DTSTAMP:20260424T091429
CREATED:20250926T181241Z
LAST-MODIFIED:20250926T181241Z
UID:10001150-1761420600-1761426000@bigcouchnola.com
SUMMARY:The Squirrel and the Squire
DESCRIPTION:« All Events\n 				\n				\n				\n				\n					\n	The Lottery: The Improv Comedy Show Where You Take the stage				\n				\n				\n				\n					\n		\n			July 8\, 2026\n\n	\n\n	  |  \n\n\n8:00 pm\n\n		\n\n\n\n	\n	  -  \n\n9:00 pm\n\n\n\n	\n				\n				\n				\n				\n					\n	\n				\n				\n				\n				\n									Enter The Lottery! Audience members with improv experience can be randomly selected to join seasoned performers on stage for long-form fun. Take a chance with The Lottery\, a long-form improv show where any audience member with some improv experience can enter a random drawing for the opportunity to perform with seasoned improvisers. Sign-ups start at 7:45 pm. And\, at 8 pm\, we’ll draw a few lucky names\, giving participants a shot at extra stage time\, new collaborations\, and the thrill of creating scenes on the spot. Every show is a fresh draw\, a new chance\, and a totally improvised adventure. Will your name be called? Step up\, take your chance\, and see what unfolds! Spectators welcome as participation in the random drawing is NOT required\, and a supportive audience always makes a show better! 								\n				\n				\n						\n					\n			\n						\n				\n					\n		\n	get tickets online or at the door\n\n				\n				\n				\n				\n							\n			\n						\n		\n						\n				\n				\n				\n					\n	\n		\n\n	\n	Add to calendar	\n		\n	\n\n		\n			\n									\n	Google Calendar\n\n									\n	iCalendar\n\n									\n	Outlook 365\n\n									\n	Outlook Live\n\n							\n		\n\n		\n	\n\n				\n				\n					\n		\n				\n			\n						\n				\n					\n				\n				\n	\n			\n		Big Couch			\n	\n	\n	\n\n1045 Desire Street\n	\n		\n		New Orleans\,\n\n	LA\n\n	70117\n\n	United States\n\n\n\n\n	+ Google Map \n\n\n	\n					\n						\n	 \n\n\n	\n	 \n\n\n\n	\n\n\n\n		\n	\n				\n				\n					\n		\n					\n		\n				\n						\n					\n			\n						\n				\n					\n	\n		\n\n				Discourse: A Live Comedy Debate Show	\n\n\n		\n	\n		Cards of Destiny: Unscripted Comedy Competition
URL:https://bigcouchnola.com/event/the-squirrel-and-the-squire-2/
LOCATION:Big Couch\, 1045 Desire Street\, New Orleans\, LA\, 70117\, United States
ATTACH;FMTTYPE=image/png:https://bigcouchnola.com/wp-content/uploads/2025/03/Untitled-design-17.png
ORGANIZER;CN="Big Couch":MAILTO:carrie@bigcouchnola.com
END:VEVENT
BEGIN:VEVENT
DTSTART;TZID=UTC:20251025T130000
DTEND;TZID=UTC:20251025T140000
DTSTAMP:20260424T091430
CREATED:20250103T101154Z
LAST-MODIFIED:20251216T215833Z
UID:10000785-1761397200-1761400800@bigcouchnola.com
SUMMARY:Free Improv Comedy Jam
DESCRIPTION:« All Events\n 				\n				\n				\n				\n					\n	The Lottery: The Improv Comedy Show Where You Take the stage				\n				\n				\n				\n					\n		\n			July 8\, 2026\n\n	\n\n	  |  \n\n\n8:00 pm\n\n		\n\n\n\n	\n	  -  \n\n9:00 pm\n\n\n\n	\n				\n				\n				\n				\n					\n	\n				\n				\n				\n				\n									Enter The Lottery! Audience members with improv experience can be randomly selected to join seasoned performers on stage for long-form fun. Take a chance with The Lottery\, a long-form improv show where any audience member with some improv experience can enter a random drawing for the opportunity to perform with seasoned improvisers. Sign-ups start at 7:45 pm. And\, at 8 pm\, we’ll draw a few lucky names\, giving participants a shot at extra stage time\, new collaborations\, and the thrill of creating scenes on the spot. Every show is a fresh draw\, a new chance\, and a totally improvised adventure. Will your name be called? Step up\, take your chance\, and see what unfolds! Spectators welcome as participation in the random drawing is NOT required\, and a supportive audience always makes a show better! 								\n				\n				\n						\n					\n			\n						\n				\n					\n		\n	get tickets online or at the door\n\n				\n				\n				\n				\n							\n			\n						\n		\n						\n				\n				\n				\n					\n	\n		\n\n	\n	Add to calendar	\n		\n	\n\n		\n			\n									\n	Google Calendar\n\n									\n	iCalendar\n\n									\n	Outlook 365\n\n									\n	Outlook Live\n\n							\n		\n\n		\n	\n\n				\n				\n					\n		\n				\n			\n						\n				\n					\n				\n				\n	\n			\n		Big Couch			\n	\n	\n	\n\n1045 Desire Street\n	\n		\n		New Orleans\,\n\n	LA\n\n	70117\n\n	United States\n\n\n\n\n	+ Google Map \n\n\n	\n					\n						\n	 \n\n\n	\n	 \n\n\n\n	\n\n\n\n		\n	\n				\n				\n					\n		\n					\n		\n				\n						\n					\n			\n						\n				\n					\n	\n		\n\n				Discourse: A Live Comedy Debate Show	\n\n\n		\n	\n		Cards of Destiny: Unscripted Comedy Competition
URL:https://bigcouchnola.com/event/free-improv-comedy-jam-new-orleans/2025-10-25/
LOCATION:Big Couch\, 1045 Desire Street\, New Orleans\, LA\, 70117\, United States
ATTACH;FMTTYPE=image/png:https://bigcouchnola.com/wp-content/uploads/2025/01/Classes-2026-Website.png
ORGANIZER;CN="Big Couch":MAILTO:carrie@bigcouchnola.com
END:VEVENT
END:VCALENDAR